BEGIN:VCALENDAR
VERSION:2.0
PRODID:-//Town of Union, Connecticut | Established 1734 - ECPv6.15.20//NONSGML v1.0//EN
CALSCALE:GREGORIAN
METHOD:PUBLISH
X-ORIGINAL-URL:https://www.unionconnecticut.org
X-WR-CALDESC:Events for Town of Union, Connecticut | Established 1734
REFRESH-INTERVAL;VALUE=DURATION:PT1H
X-Robots-Tag:noindex
X-PUBLISHED-TTL:PT1H
BEGIN:VTIMEZONE
TZID:America/New_York
BEGIN:DAYLIGHT
TZOFFSETFROM:-0500
TZOFFSETTO:-0400
TZNAME:EDT
DTSTART:20250309T070000
END:DAYLIGHT
BEGIN:STANDARD
TZOFFSETFROM:-0400
TZOFFSETTO:-0500
TZNAME:EST
DTSTART:20251102T060000
END:STANDARD
BEGIN:DAYLIGHT
TZOFFSETFROM:-0500
TZOFFSETTO:-0400
TZNAME:EDT
DTSTART:20260308T070000
END:DAYLIGHT
BEGIN:STANDARD
TZOFFSETFROM:-0400
TZOFFSETTO:-0500
TZNAME:EST
DTSTART:20261101T060000
END:STANDARD
BEGIN:DAYLIGHT
TZOFFSETFROM:-0500
TZOFFSETTO:-0400
TZNAME:EDT
DTSTART:20270314T070000
END:DAYLIGHT
BEGIN:STANDARD
TZOFFSETFROM:-0400
TZOFFSETTO:-0500
TZNAME:EST
DTSTART:20271107T060000
END:STANDARD
END:VTIMEZONE
BEGIN:VEVENT
DTSTART;TZID=America/New_York:20260505T190000
DTEND;TZID=America/New_York:20260505T203000
DTSTAMP:20260422T175238
CREATED:20260225T181834Z
LAST-MODIFIED:20260225T181834Z
UID:7563-1778007600-1778013000@www.unionconnecticut.org
SUMMARY:Board of Selectmen Meeting \, May 5\, 7:00 pm
DESCRIPTION:Board of Selectmen Meeting
URL:https://www.unionconnecticut.org/event/board-of-selectmen-meeting-may-5-700-pm/
CATEGORIES:Board of Selectmen Meetings
ATTACH;FMTTYPE=image/jpeg:https://www.unionconnecticut.org/wp-content/uploads/2022/06/board-of-selectmen.jpg
END:VEVENT
BEGIN:VEVENT
DTSTART;TZID=America/New_York:20260506T190000
DTEND;TZID=America/New_York:20260506T203000
DTSTAMP:20260422T175238
CREATED:20260225T181357Z
LAST-MODIFIED:20260225T181357Z
UID:7547-1778094000-1778099400@www.unionconnecticut.org
SUMMARY:Planning & Zoning Meeting May 6\, 2026\, 7:00 pm
DESCRIPTION:Planning & Zoning Commission Meeting
URL:https://www.unionconnecticut.org/event/planning-zoning-meeting-may-6-2026-700-pm/
CATEGORIES:Planning & Zoning Commission Meetings
ATTACH;FMTTYPE=image/jpeg:https://www.unionconnecticut.org/wp-content/uploads/2022/06/Planning-Zoning-Commission.jpg
END:VEVENT
BEGIN:VEVENT
DTSTART;TZID=America/New_York:20260511T193000
DTEND;TZID=America/New_York:20260511T203000
DTSTAMP:20260422T175238
CREATED:20250416T174610Z
LAST-MODIFIED:20260422T133208Z
UID:6650-1778527800-1778531400@www.unionconnecticut.org
SUMMARY:Town Meeting Monday\, May 11\, 7:30 PM  View Proposed Budget & Town Report Here
DESCRIPTION:NOTICE IS HEREBY GIVEN THAT A TOWN MEETING OF THE ELECTORS AND CITIZENS QUALIFIED TO VOTE IN TOWN MEETINGS OF THE TOWN OF UNION\, CONNECTICUT will be held in the Town Room at the Union Town Hall\, 1043 Buckley Highway Union\, Connecticut on May 11\, 2026 at 7:30 p.m. to discuss and vote (by paper ballot) on the following items. \n\nShall the Town of Union vote to approve the revisions to the Union Town Ordinance titled “Town of Union Driveway Ordinance” (effective date July 1\, 2001) Proposed revision effective July 1\, 2026\, copies available at the Town Hall Town Clerk’s office.\nShall the Town of Union vote to approve the Transfer of $24\,000.00 from the General Fund into the Capital projects account\, to be used for the Town’s Municipal Match for STEAP award 0145-0110.\nShall the Town of Union vote to approve the Budget for Fiscal Year Beginning July 1\, 2026 and ending June 30\, 2027 for the sum of $3\,897\,385.00.\n\nDated at Union\, Connecticut April 21\, 2026. \nBoard of Selectmen \nDavid D. Eaton                                   E. John Murdock Jr.                David M. Heck\nFirst Selectman                                   Selectman                                  Selectman \nProposed 2026-2027 Town Budget\n2024-2025 Town Report
URL:https://www.unionconnecticut.org/event/town-meeting-warning-for-may-12-730-pm/
LOCATION:Community Room Town Hall\, 1043 Buckley Highway\, Union\, CT\, 06076\, United States
CATEGORIES:Event
ATTACH;FMTTYPE=image/jpeg:https://www.unionconnecticut.org/wp-content/uploads/2022/07/banner-townhall.jpg
END:VEVENT
BEGIN:VEVENT
DTSTART;TZID=America/New_York:20260519T190000
DTEND;TZID=America/New_York:20260519T200000
DTSTAMP:20260422T175238
CREATED:20260225T182208Z
LAST-MODIFIED:20260225T182208Z
UID:7575-1779217200-1779220800@www.unionconnecticut.org
SUMMARY:Board of Finance Meeting May 19\, 7:00PM
DESCRIPTION:Board of Finance Meeting
URL:https://www.unionconnecticut.org/event/board-of-finance-meeting-may-19-700pm/
CATEGORIES:Board of Finance Meetings
ATTACH;FMTTYPE=image/jpeg:https://www.unionconnecticut.org/wp-content/uploads/2022/06/Board-of-Finance-Meeting.jpg
END:VEVENT
BEGIN:VEVENT
DTSTART;TZID=America/New_York:20260519T190000
DTEND;TZID=America/New_York:20260519T203000
DTSTAMP:20260422T175238
CREATED:20260225T181903Z
LAST-MODIFIED:20260225T181903Z
UID:7565-1779217200-1779222600@www.unionconnecticut.org
SUMMARY:Board of Selectmen Meeting \, May 19\, 7:00 pm
DESCRIPTION:Board of Selectmen Meeting
URL:https://www.unionconnecticut.org/event/board-of-selectmen-meeting-may-19-700-pm/
CATEGORIES:Board of Selectmen Meetings
ATTACH;FMTTYPE=image/jpeg:https://www.unionconnecticut.org/wp-content/uploads/2022/06/board-of-selectmen.jpg
END:VEVENT
BEGIN:VEVENT
DTSTART;TZID=America/New_York:20260520T190000
DTEND;TZID=America/New_York:20260520T203000
DTSTAMP:20260422T175238
CREATED:20260225T181425Z
LAST-MODIFIED:20260225T181425Z
UID:7550-1779303600-1779309000@www.unionconnecticut.org
SUMMARY:Planning & Zoning Meeting May 20\, 2026\, 7:00 pm
DESCRIPTION:Planning & Zoning Commission Meeting
URL:https://www.unionconnecticut.org/event/planning-zoning-meeting-may-20-2026-700-pm/
CATEGORIES:Planning & Zoning Commission Meetings
ATTACH;FMTTYPE=image/jpeg:https://www.unionconnecticut.org/wp-content/uploads/2022/06/Planning-Zoning-Commission.jpg
END:VEVENT
BEGIN:VEVENT
DTSTART;TZID=America/New_York:20260602T190000
DTEND;TZID=America/New_York:20260602T203000
DTSTAMP:20260422T175238
CREATED:20260225T181941Z
LAST-MODIFIED:20260225T181941Z
UID:7567-1780426800-1780432200@www.unionconnecticut.org
SUMMARY:Board of Selectmen Meeting \, June 2\, 7:00 pm
DESCRIPTION:Board of Selectmen Meeting
URL:https://www.unionconnecticut.org/event/board-of-selectmen-meeting-june-2-700-pm/
CATEGORIES:Board of Selectmen Meetings
ATTACH;FMTTYPE=image/jpeg:https://www.unionconnecticut.org/wp-content/uploads/2022/06/board-of-selectmen.jpg
END:VEVENT
BEGIN:VEVENT
DTSTART;TZID=America/New_York:20260603T190000
DTEND;TZID=America/New_York:20260603T200000
DTSTAMP:20260422T175238
CREATED:20260225T182441Z
LAST-MODIFIED:20260225T182441Z
UID:7581-1780513200-1780516800@www.unionconnecticut.org
SUMMARY:Library Board of Directors Meeting June 3\, 7:00PM
DESCRIPTION:
URL:https://www.unionconnecticut.org/event/library-board-of-directors-meeting-june-3-700pm/
LOCATION:Union Free Public Library\, 979 Buckley Highway\, Union\, 06076
CATEGORIES:Library Board of Directors
ATTACH;FMTTYPE=image/jpeg:https://www.unionconnecticut.org/wp-content/uploads/2022/06/Library-Board-of-Directors.jpg
END:VEVENT
BEGIN:VEVENT
DTSTART;TZID=America/New_York:20260603T190000
DTEND;TZID=America/New_York:20260603T203000
DTSTAMP:20260422T175238
CREATED:20260225T181452Z
LAST-MODIFIED:20260225T181452Z
UID:7549-1780513200-1780518600@www.unionconnecticut.org
SUMMARY:Planning & Zoning Meeting June 3\, 2026\, 7:00 pm
DESCRIPTION:Planning & Zoning Commission Meeting
URL:https://www.unionconnecticut.org/event/planning-zoning-meeting-june-3-2026-700-pm/
CATEGORIES:Planning & Zoning Commission Meetings
ATTACH;FMTTYPE=image/jpeg:https://www.unionconnecticut.org/wp-content/uploads/2022/06/Planning-Zoning-Commission.jpg
END:VEVENT
BEGIN:VEVENT
DTSTART;TZID=America/New_York:20260616T190000
DTEND;TZID=America/New_York:20260616T200000
DTSTAMP:20260422T175238
CREATED:20260225T182246Z
LAST-MODIFIED:20260225T182246Z
UID:7577-1781636400-1781640000@www.unionconnecticut.org
SUMMARY:Board of Finance Meeting June 16\, 7:00PM
DESCRIPTION:Board of Finance Meeting
URL:https://www.unionconnecticut.org/event/board-of-finance-meeting-june-16-700pm/
CATEGORIES:Board of Finance Meetings
ATTACH;FMTTYPE=image/jpeg:https://www.unionconnecticut.org/wp-content/uploads/2022/06/Board-of-Finance-Meeting.jpg
END:VEVENT
BEGIN:VEVENT
DTSTART;TZID=America/New_York:20260616T190000
DTEND;TZID=America/New_York:20260616T203000
DTSTAMP:20260422T175238
CREATED:20260225T182012Z
LAST-MODIFIED:20260225T182012Z
UID:7569-1781636400-1781641800@www.unionconnecticut.org
SUMMARY:Board of Selectmen Meeting \, June 16\, 7:00 pm
DESCRIPTION:Board of Selectmen Meeting
URL:https://www.unionconnecticut.org/event/board-of-selectmen-meeting-june-16-700-pm/
CATEGORIES:Board of Selectmen Meetings
ATTACH;FMTTYPE=image/jpeg:https://www.unionconnecticut.org/wp-content/uploads/2022/06/board-of-selectmen.jpg
END:VEVENT
BEGIN:VEVENT
DTSTART;TZID=America/New_York:20260617T190000
DTEND;TZID=America/New_York:20260617T203000
DTSTAMP:20260422T175238
CREATED:20260225T181519Z
LAST-MODIFIED:20260225T181519Z
UID:7548-1781722800-1781728200@www.unionconnecticut.org
SUMMARY:Planning & Zoning Meeting June 17\, 2026\, 7:00 pm
DESCRIPTION:Planning & Zoning Commission Meeting
URL:https://www.unionconnecticut.org/event/planning-zoning-meeting-june-17-2026-700-pm/
CATEGORIES:Planning & Zoning Commission Meetings
ATTACH;FMTTYPE=image/jpeg:https://www.unionconnecticut.org/wp-content/uploads/2022/06/Planning-Zoning-Commission.jpg
END:VEVENT
BEGIN:VEVENT
DTSTART;TZID=America/New_York:20260701T190000
DTEND;TZID=America/New_York:20260701T203000
DTSTAMP:20260422T175238
CREATED:20260225T181555Z
LAST-MODIFIED:20260225T181555Z
UID:7555-1782932400-1782937800@www.unionconnecticut.org
SUMMARY:Planning & Zoning Meeting July 1\, 2026\, 7:00 pm
DESCRIPTION:Planning & Zoning Commission Meeting
URL:https://www.unionconnecticut.org/event/planning-zoning-meeting-july-1-2026-700-pm/
CATEGORIES:Planning & Zoning Commission Meetings
ATTACH;FMTTYPE=image/jpeg:https://www.unionconnecticut.org/wp-content/uploads/2022/06/Planning-Zoning-Commission.jpg
END:VEVENT
BEGIN:VEVENT
DTSTART;TZID=America/New_York:20260707T190000
DTEND;TZID=America/New_York:20260707T203000
DTSTAMP:20260422T175238
CREATED:20260225T182700Z
LAST-MODIFIED:20260225T182700Z
UID:7587-1783450800-1783456200@www.unionconnecticut.org
SUMMARY:Board of Selectmen Meeting \, July 7\, 7:00 pm
DESCRIPTION:Board of Selectmen Meeting
URL:https://www.unionconnecticut.org/event/board-of-selectmen-meeting-july-7-700-pm/
CATEGORIES:Board of Selectmen Meetings
ATTACH;FMTTYPE=image/jpeg:https://www.unionconnecticut.org/wp-content/uploads/2022/06/board-of-selectmen.jpg
END:VEVENT
BEGIN:VEVENT
DTSTART;TZID=America/New_York:20260715T190000
DTEND;TZID=America/New_York:20260715T203000
DTSTAMP:20260422T175238
CREATED:20260225T181627Z
LAST-MODIFIED:20260225T181627Z
UID:7557-1784142000-1784147400@www.unionconnecticut.org
SUMMARY:Planning & Zoning Meeting July 15\, 2026\, 7:00 pm
DESCRIPTION:Planning & Zoning Commission Meeting
URL:https://www.unionconnecticut.org/event/planning-zoning-meeting-july-15-2026-700-pm/
CATEGORIES:Planning & Zoning Commission Meetings
ATTACH;FMTTYPE=image/jpeg:https://www.unionconnecticut.org/wp-content/uploads/2022/06/Planning-Zoning-Commission.jpg
END:VEVENT
BEGIN:VEVENT
DTSTART;TZID=America/New_York:20260721T190000
DTEND;TZID=America/New_York:20260721T200000
DTSTAMP:20260422T175238
CREATED:20260225T182922Z
LAST-MODIFIED:20260225T182922Z
UID:7595-1784660400-1784664000@www.unionconnecticut.org
SUMMARY:Board of Finance Meeting July 21\, 7:00PM
DESCRIPTION:Board of Finance Meeting
URL:https://www.unionconnecticut.org/event/board-of-finance-meeting-july-21-700pm/
CATEGORIES:Board of Finance Meetings
ATTACH;FMTTYPE=image/jpeg:https://www.unionconnecticut.org/wp-content/uploads/2022/06/Board-of-Finance-Meeting.jpg
END:VEVENT
BEGIN:VEVENT
DTSTART;TZID=America/New_York:20260721T190000
DTEND;TZID=America/New_York:20260721T203000
DTSTAMP:20260422T175238
CREATED:20260225T182731Z
LAST-MODIFIED:20260225T182731Z
UID:7589-1784660400-1784665800@www.unionconnecticut.org
SUMMARY:Board of Selectmen Meeting \, July 21\, 7:00 pm
DESCRIPTION:Board of Selectmen Meeting
URL:https://www.unionconnecticut.org/event/board-of-selectmen-meeting-july-21-700-pm/
CATEGORIES:Board of Selectmen Meetings
ATTACH;FMTTYPE=image/jpeg:https://www.unionconnecticut.org/wp-content/uploads/2022/06/board-of-selectmen.jpg
END:VEVENT
BEGIN:VEVENT
DTSTART;TZID=America/New_York:20260804T190000
DTEND;TZID=America/New_York:20260804T203000
DTSTAMP:20260422T175238
CREATED:20260225T182806Z
LAST-MODIFIED:20260225T182806Z
UID:7591-1785870000-1785875400@www.unionconnecticut.org
SUMMARY:Board of Selectmen Meeting \, August 4\, 7:00 pm
DESCRIPTION:Board of Selectmen Meeting
URL:https://www.unionconnecticut.org/event/board-of-selectmen-meeting-august-4-700-pm/
CATEGORIES:Board of Selectmen Meetings
ATTACH;FMTTYPE=image/jpeg:https://www.unionconnecticut.org/wp-content/uploads/2022/06/board-of-selectmen.jpg
END:VEVENT
BEGIN:VEVENT
DTSTART;TZID=America/New_York:20260805T190000
DTEND;TZID=America/New_York:20260805T200000
DTSTAMP:20260422T175238
CREATED:20260225T183040Z
LAST-MODIFIED:20260225T183040Z
UID:7599-1785956400-1785960000@www.unionconnecticut.org
SUMMARY:Library Board of Directors Meeting August 5\, 7:00PM
DESCRIPTION:
URL:https://www.unionconnecticut.org/event/library-board-of-directors-meeting-august-5-700pm/
LOCATION:Union Free Public Library\, 979 Buckley Highway\, Union\, 06076
CATEGORIES:Library Board of Directors
ATTACH;FMTTYPE=image/jpeg:https://www.unionconnecticut.org/wp-content/uploads/2022/06/Library-Board-of-Directors.jpg
END:VEVENT
BEGIN:VEVENT
DTSTART;TZID=America/New_York:20260805T190000
DTEND;TZID=America/New_York:20260805T203000
DTSTAMP:20260422T175238
CREATED:20260225T182540Z
LAST-MODIFIED:20260225T182540Z
UID:7583-1785956400-1785961800@www.unionconnecticut.org
SUMMARY:Planning & Zoning Meeting August 5\, 2026\, 7:00 pm
DESCRIPTION:Planning & Zoning Commission Meeting
URL:https://www.unionconnecticut.org/event/planning-zoning-meeting-august-5-2026-700-pm/
CATEGORIES:Planning & Zoning Commission Meetings
ATTACH;FMTTYPE=image/jpeg:https://www.unionconnecticut.org/wp-content/uploads/2022/06/Planning-Zoning-Commission.jpg
END:VEVENT
BEGIN:VEVENT
DTSTART;VALUE=DATE:20260815
DTEND;VALUE=DATE:20260816
DTSTAMP:20260422T175238
CREATED:20250701T151409Z
LAST-MODIFIED:20260421T125153Z
UID:6863-1786752000-1786838399@www.unionconnecticut.org
SUMMARY:Old Home Day~Celebrating America250   Saturday\, August 15\, 2026  APPAREL IS PRE-ORDER ONLY THIS YEAR!
DESCRIPTION:Order Old Home Day Apparel Here\n \nOrder Old Home Day Apparel Here
URL:https://www.unionconnecticut.org/event/old-home-day-saturday-august-16-vendors-wanted/
CATEGORIES:Event,Old Home Day
ATTACH;FMTTYPE=image/jpeg:https://www.unionconnecticut.org/wp-content/uploads/2025/07/Final-American-Revolution-Design-for-OHD-1.pdf.jpg
END:VEVENT
BEGIN:VEVENT
DTSTART;TZID=America/New_York:20260818T190000
DTEND;TZID=America/New_York:20260818T200000
DTSTAMP:20260422T175238
CREATED:20260225T182956Z
LAST-MODIFIED:20260225T182956Z
UID:7597-1787079600-1787083200@www.unionconnecticut.org
SUMMARY:Board of Finance Meeting August 18\, 7:00PM
DESCRIPTION:Board of Finance Meeting
URL:https://www.unionconnecticut.org/event/board-of-finance-meeting-august-18-700pm/
CATEGORIES:Board of Finance Meetings
ATTACH;FMTTYPE=image/jpeg:https://www.unionconnecticut.org/wp-content/uploads/2022/06/Board-of-Finance-Meeting.jpg
END:VEVENT
BEGIN:VEVENT
DTSTART;TZID=America/New_York:20260818T190000
DTEND;TZID=America/New_York:20260818T203000
DTSTAMP:20260422T175238
CREATED:20260225T182836Z
LAST-MODIFIED:20260225T182836Z
UID:7593-1787079600-1787085000@www.unionconnecticut.org
SUMMARY:Board of Selectmen Meeting \, August 18\, 7:00 pm
DESCRIPTION:Board of Selectmen Meeting
URL:https://www.unionconnecticut.org/event/board-of-selectmen-meeting-august-18-700-pm/
CATEGORIES:Board of Selectmen Meetings
ATTACH;FMTTYPE=image/jpeg:https://www.unionconnecticut.org/wp-content/uploads/2022/06/board-of-selectmen.jpg
END:VEVENT
BEGIN:VEVENT
DTSTART;TZID=America/New_York:20260819T190000
DTEND;TZID=America/New_York:20260819T203000
DTSTAMP:20260422T175238
CREATED:20260225T182610Z
LAST-MODIFIED:20260225T182610Z
UID:7585-1787166000-1787171400@www.unionconnecticut.org
SUMMARY:Planning & Zoning Meeting August 19\, 2026\, 7:00 pm
DESCRIPTION:Planning & Zoning Commission Meeting
URL:https://www.unionconnecticut.org/event/planning-zoning-meeting-august-19-2026-700-pm/
CATEGORIES:Planning & Zoning Commission Meetings
ATTACH;FMTTYPE=image/jpeg:https://www.unionconnecticut.org/wp-content/uploads/2022/06/Planning-Zoning-Commission.jpg
END:VEVENT
BEGIN:VEVENT
DTSTART;TZID=America/New_York:20260901T190000
DTEND;TZID=America/New_York:20260901T203000
DTSTAMP:20260422T175238
CREATED:20260225T183331Z
LAST-MODIFIED:20260225T183331Z
UID:7609-1788289200-1788294600@www.unionconnecticut.org
SUMMARY:Board of Selectmen Meeting \, September 1\, 7:00 pm
DESCRIPTION:Board of Selectmen Meeting
URL:https://www.unionconnecticut.org/event/board-of-selectmen-meeting-september-1-700-pm/
CATEGORIES:Board of Selectmen Meetings
ATTACH;FMTTYPE=image/jpeg:https://www.unionconnecticut.org/wp-content/uploads/2022/06/board-of-selectmen.jpg
END:VEVENT
BEGIN:VEVENT
DTSTART;TZID=America/New_York:20260902T190000
DTEND;TZID=America/New_York:20260902T203000
DTSTAMP:20260422T175238
CREATED:20260225T183133Z
LAST-MODIFIED:20260225T183133Z
UID:7601-1788375600-1788381000@www.unionconnecticut.org
SUMMARY:Planning & Zoning Meeting September 2\, 2026\, 7:00 pm
DESCRIPTION:Planning & Zoning Commission Meeting
URL:https://www.unionconnecticut.org/event/planning-zoning-meeting-september-2-2026-700-pm/
CATEGORIES:Planning & Zoning Commission Meetings
ATTACH;FMTTYPE=image/jpeg:https://www.unionconnecticut.org/wp-content/uploads/2022/06/Planning-Zoning-Commission.jpg
END:VEVENT
BEGIN:VEVENT
DTSTART;TZID=America/New_York:20260911T193000
DTEND;TZID=America/New_York:20260911T203000
DTSTAMP:20260422T175238
CREATED:20260225T181050Z
LAST-MODIFIED:20260225T181113Z
UID:7540-1789155000-1789158600@www.unionconnecticut.org
SUMMARY:Board of Assessment Appeals September 11\, 2026\,  7:30PM (MV Appeals Only)
DESCRIPTION:Board of Assessment Appeals
URL:https://www.unionconnecticut.org/event/board-of-assessment-appeals-september-11-2026-730pm/
CATEGORIES:Board of Assessment Appeals Meetings
ATTACH;FMTTYPE=image/jpeg:https://www.unionconnecticut.org/wp-content/uploads/2022/07/Board-of-Assessment-Appeals.jpg
END:VEVENT
BEGIN:VEVENT
DTSTART;TZID=America/New_York:20260915T190000
DTEND;TZID=America/New_York:20260915T200000
DTSTAMP:20260422T175238
CREATED:20260225T183542Z
LAST-MODIFIED:20260225T183542Z
UID:7617-1789498800-1789502400@www.unionconnecticut.org
SUMMARY:Board of Finance Meeting September 15\, 7:00PM
DESCRIPTION:Board of Finance Meeting
URL:https://www.unionconnecticut.org/event/board-of-finance-meeting-september-15-700pm/
CATEGORIES:Board of Finance Meetings
ATTACH;FMTTYPE=image/jpeg:https://www.unionconnecticut.org/wp-content/uploads/2022/06/Board-of-Finance-Meeting.jpg
END:VEVENT
BEGIN:VEVENT
DTSTART;TZID=America/New_York:20260915T190000
DTEND;TZID=America/New_York:20260915T203000
DTSTAMP:20260422T175238
CREATED:20260225T183359Z
LAST-MODIFIED:20260225T183359Z
UID:7611-1789498800-1789504200@www.unionconnecticut.org
SUMMARY:Board of Selectmen Meeting \, September 15\, 7:00 pm
DESCRIPTION:Board of Selectmen Meeting
URL:https://www.unionconnecticut.org/event/board-of-selectmen-meeting-september-15-700-pm/
CATEGORIES:Board of Selectmen Meetings
ATTACH;FMTTYPE=image/jpeg:https://www.unionconnecticut.org/wp-content/uploads/2022/06/board-of-selectmen.jpg
END:VEVENT
BEGIN:VEVENT
DTSTART;TZID=America/New_York:20260916T190000
DTEND;TZID=America/New_York:20260916T203000
DTSTAMP:20260422T175238
CREATED:20260225T183201Z
LAST-MODIFIED:20260225T183201Z
UID:7603-1789585200-1789590600@www.unionconnecticut.org
SUMMARY:Planning & Zoning Meeting September 16\, 2026\, 7:00 pm
DESCRIPTION:Planning & Zoning Commission Meeting
URL:https://www.unionconnecticut.org/event/planning-zoning-meeting-september-16-2026-700-pm/
CATEGORIES:Planning & Zoning Commission Meetings
ATTACH;FMTTYPE=image/jpeg:https://www.unionconnecticut.org/wp-content/uploads/2022/06/Planning-Zoning-Commission.jpg
END:VEVENT
END:VCALENDAR