BEGIN:VCALENDAR
VERSION:2.0
PRODID:-//Town of Union, Connecticut | Established 1734 - ECPv6.15.20//NONSGML v1.0//EN
CALSCALE:GREGORIAN
METHOD:PUBLISH
X-ORIGINAL-URL:https://www.unionconnecticut.org
X-WR-CALDESC:Events for Town of Union, Connecticut | Established 1734
REFRESH-INTERVAL;VALUE=DURATION:PT1H
X-Robots-Tag:noindex
X-PUBLISHED-TTL:PT1H
BEGIN:VTIMEZONE
TZID:America/New_York
BEGIN:DAYLIGHT
TZOFFSETFROM:-0500
TZOFFSETTO:-0400
TZNAME:EDT
DTSTART:20240310T070000
END:DAYLIGHT
BEGIN:STANDARD
TZOFFSETFROM:-0400
TZOFFSETTO:-0500
TZNAME:EST
DTSTART:20241103T060000
END:STANDARD
BEGIN:DAYLIGHT
TZOFFSETFROM:-0500
TZOFFSETTO:-0400
TZNAME:EDT
DTSTART:20250309T070000
END:DAYLIGHT
BEGIN:STANDARD
TZOFFSETFROM:-0400
TZOFFSETTO:-0500
TZNAME:EST
DTSTART:20251102T060000
END:STANDARD
BEGIN:DAYLIGHT
TZOFFSETFROM:-0500
TZOFFSETTO:-0400
TZNAME:EDT
DTSTART:20260308T070000
END:DAYLIGHT
BEGIN:STANDARD
TZOFFSETFROM:-0400
TZOFFSETTO:-0500
TZNAME:EST
DTSTART:20261101T060000
END:STANDARD
END:VTIMEZONE
BEGIN:VEVENT
DTSTART;TZID=America/New_York:20251111T093000
DTEND;TZID=America/New_York:20251111T103000
DTSTAMP:20260421T222356
CREATED:20221101T145638Z
LAST-MODIFIED:20251104T152156Z
UID:4050-1762853400-1762857000@www.unionconnecticut.org
SUMMARY:Union Veterans Day Observance\, Tuesday\, November 11\, 2025\, 9:30 a.m.  TOWN OFFICES CLOSED
DESCRIPTION:Join our Veterans Day Observance Ceremony on Tuesday\, November 11 at 9:30 AM at the Town Green on Buckley Highway \nOn Tuesday\, November 11\, the Town of Union will be holding a ceremony in honor of our veterans.  \nThe Union School students will be participating\, along with other Town officials.  \nThe Union School will be serving refreshments following the ceremony. \nWe hope to see you there. We thank all of our veterans for their service!\nPlease help spread the word to our veterans so we can thank them for their service.
URL:https://www.unionconnecticut.org/event/4050/
CATEGORIES:Event,Veterans Day
ATTACH;FMTTYPE=image/jpeg:https://www.unionconnecticut.org/wp-content/uploads/2022/11/usa-veterans-day-free-clip-art.jpg
END:VEVENT
END:VCALENDAR