BEGIN:VCALENDAR
VERSION:2.0
PRODID:-//Town of Union, Connecticut | Established 1734 - ECPv6.15.20//NONSGML v1.0//EN
CALSCALE:GREGORIAN
METHOD:PUBLISH
X-ORIGINAL-URL:https://www.unionconnecticut.org
X-WR-CALDESC:Events for Town of Union, Connecticut | Established 1734
REFRESH-INTERVAL;VALUE=DURATION:PT1H
X-Robots-Tag:noindex
X-PUBLISHED-TTL:PT1H
BEGIN:VTIMEZONE
TZID:America/New_York
BEGIN:DAYLIGHT
TZOFFSETFROM:-0500
TZOFFSETTO:-0400
TZNAME:EDT
DTSTART:20210314T070000
END:DAYLIGHT
BEGIN:STANDARD
TZOFFSETFROM:-0400
TZOFFSETTO:-0500
TZNAME:EST
DTSTART:20211107T060000
END:STANDARD
BEGIN:DAYLIGHT
TZOFFSETFROM:-0500
TZOFFSETTO:-0400
TZNAME:EDT
DTSTART:20220313T070000
END:DAYLIGHT
BEGIN:STANDARD
TZOFFSETFROM:-0400
TZOFFSETTO:-0500
TZNAME:EST
DTSTART:20221106T060000
END:STANDARD
BEGIN:DAYLIGHT
TZOFFSETFROM:-0500
TZOFFSETTO:-0400
TZNAME:EDT
DTSTART:20230312T070000
END:DAYLIGHT
BEGIN:STANDARD
TZOFFSETFROM:-0400
TZOFFSETTO:-0500
TZNAME:EST
DTSTART:20231105T060000
END:STANDARD
BEGIN:DAYLIGHT
TZOFFSETFROM:-0500
TZOFFSETTO:-0400
TZNAME:EDT
DTSTART:20240310T070000
END:DAYLIGHT
BEGIN:STANDARD
TZOFFSETFROM:-0400
TZOFFSETTO:-0500
TZNAME:EST
DTSTART:20241103T060000
END:STANDARD
END:VTIMEZONE
BEGIN:VEVENT
DTSTART;TZID=America/New_York:20230405T193000
DTEND;TZID=America/New_York:20230405T203000
DTSTAMP:20260422T203853
CREATED:20230322T172918Z
LAST-MODIFIED:20230404T140428Z
UID:4449-1680723000-1680726600@www.unionconnecticut.org
SUMMARY:Planning & Zoning Commission Meeting
DESCRIPTION:Planning & Zoning Commission MeetingPlanning and Zoning and Wetlands Commission \nTown of Union\, Connecticut \n___________________________ \n1043 Buckley Highway\, Union\, CT  06076 \n“This Institution is an Equal Opportunity Provider and Employer.” \nAGENDA NOTICE \nApril 05\, 2023 \n7:30pm \nUnion Town Hall\, Upper Level \n\nSeating of Alternates\n\n\nMinutes March 15\, 2023\n\n\nOld Business             Jeskey & Messina (represented by Mike Tebow)\n\nHolland Lake- Lake Wall \n\nNew Business Bill Hull- Webster Road- Shelter/Cabin\n\n\nPersons to be Heard\n\n\nCorrespondence                        \n\n\nZEO report\n\n\nOther Business             Zoning Regulations- 30 minutes                             \n\n\nAdjourn
URL:https://www.unionconnecticut.org/event/planning-zoning-commission-meeting-13/
CATEGORIES:Planning & Zoning Commission Meetings
ATTACH;FMTTYPE=image/jpeg:https://www.unionconnecticut.org/wp-content/uploads/2022/06/Planning-Zoning-Commission.jpg
END:VEVENT
BEGIN:VEVENT
DTSTART;TZID=America/New_York:20230315T193000
DTEND;TZID=America/New_York:20230315T203000
DTSTAMP:20260422T203853
CREATED:20230214T163053Z
LAST-MODIFIED:20230314T134744Z
UID:4304-1678908600-1678912200@www.unionconnecticut.org
SUMMARY:Planning & Zoning Commission Meeting
DESCRIPTION:Planning & Zoning Commission MeetingPlanning and Zoning and Wetlands Commission \nTown of Union\, Connecticut \n___________________________ \n1043 Buckley Highway\, Union\, CT  06076 \n“This Institution is an Equal Opportunity Provider and Employer.” \nAGENDA NOTICE \n  \nMarch 15\, 2023 \n7:30pm \nUnion Town Hall\, Upper Level \n  \n\nSeating of Alternates\n\n  \n\nMinutes March 1\, 2023\n\n  \n\nOld Business             Julie Solomon- 23 Cemetery Rd- House Rebuild \n\n  \n                                                                        Richard Gottier- 5 Town Hall Road- Barn Addition             \n\nNew Business \n\n  \n\nPersons to be Heard  Work-Live-Ride Proposal\n\n  \n\nCorrespondence                         \n\n  \n\nZEO report\n\n  \n\nOther Business             Zoning Regulations- 30 minutes\n\n                                      \n\nAdjourn
URL:https://www.unionconnecticut.org/event/planning-zoning-commission-meeting-12/
CATEGORIES:Planning & Zoning Commission Meetings
ATTACH;FMTTYPE=image/jpeg:https://www.unionconnecticut.org/wp-content/uploads/2022/06/Planning-Zoning-Commission.jpg
END:VEVENT
BEGIN:VEVENT
DTSTART;TZID=America/New_York:20230301T193000
DTEND;TZID=America/New_York:20230301T203000
DTSTAMP:20260422T203853
CREATED:20230214T163016Z
LAST-MODIFIED:20230228T154027Z
UID:4302-1677699000-1677702600@www.unionconnecticut.org
SUMMARY:Planning & Zoning Commission Meeting
DESCRIPTION:Planning & Zoning Commission MeetingPlanning and Zoning and Wetlands Commission \nTown of Union\, Connecticut \n___________________________ \n1043 Buckley Highway\, Union\, CT  06076 \n“This Institution is an Equal Opportunity Provider and Employer.” \nAGENDA NOTICE \n  \nMarch 1\, 2023 \n7:30pm \nUnion Town Hall\, Upper Level \n\nSeating of Alternates\n\n\nMinutes February 15\, 2023\n\n\nOld Business                      \n\n\nNew Business\n\n\nPersons to be Heard      Julie Solomon- 23 Cemetery Rd- House Rebuild\n\n                                                  Keith Parker- 406 Stickney Hill Road- Shed \n\nCorrespondence                        \n\n\nZEO report\n\n\nOther Business             Zoning Regulations- 30 minutes\n\n                                      \nAdjourn
URL:https://www.unionconnecticut.org/event/planning-zoning-commission-meeting-11/
CATEGORIES:Planning & Zoning Commission Meetings
ATTACH;FMTTYPE=image/jpeg:https://www.unionconnecticut.org/wp-content/uploads/2022/06/Planning-Zoning-Commission.jpg
END:VEVENT
BEGIN:VEVENT
DTSTART;TZID=America/New_York:20230215T193000
DTEND;TZID=America/New_York:20230215T203000
DTSTAMP:20260422T203853
CREATED:20230124T151319Z
LAST-MODIFIED:20230214T145142Z
UID:4252-1676489400-1676493000@www.unionconnecticut.org
SUMMARY:Planning & Zoning Commission Meeting
DESCRIPTION:Planning & Zoning Commission MeetingPlanning and Zoning and Wetlands Commission \nTown of Union\, Connecticut \n___________________________ \n1043 Buckley Highway\, Union\, CT  06076 \n“This Institution is an Equal Opportunity Provider and Employer.” \nAGENDA NOTICE \n  \nFebruary 15\, 2023 \n7:30pm \nUnion Town Hall\, Upper Level \n  \n\nSeating of Alternates\n\n  \n\nMinutes February 1\, 2023\n\n  \n\nOld Business             Scott Mangold- 119 Webster Road- Addition \n\n             \n\nNew Business \n\n  \n\nPersons to be Heard Mike Kneeland- 776 Buckley Highway- Chicken Coop\n\n  \n\nCorrespondence                         \n\n  \n\nZEO report\n\n  \n\nOther Business             Zoning Regulations- 30 minutes\n\n                                      \n\nAdjourn
URL:https://www.unionconnecticut.org/event/planning-zoning-commission-meeting-10/
CATEGORIES:Planning & Zoning Commission Meetings
ATTACH;FMTTYPE=image/jpeg:https://www.unionconnecticut.org/wp-content/uploads/2022/06/Planning-Zoning-Commission.jpg
END:VEVENT
BEGIN:VEVENT
DTSTART;TZID=America/New_York:20230201T193000
DTEND;TZID=America/New_York:20230201T203000
DTSTAMP:20260422T203853
CREATED:20221025T140854Z
LAST-MODIFIED:20230131T153954Z
UID:4027-1675279800-1675283400@www.unionconnecticut.org
SUMMARY:Planning & Zoning Commission Meeting
DESCRIPTION:Planning & Zoning Commission MeetingPlanning and Zoning and Wetlands Commission \nTown of Union\, Connecticut \n___________________________ \n1043 Buckley Highway\, Union\, CT  06076 \n“This Institution is an Equal Opportunity Provider and Employer.” \nAGENDA NOTICE \n  \nFebruary 1\, 2023 \n7:30pm \nUnion Town Hall\, Upper Level \n  \n\nSeating of Alternates\n\n  \n\nMinutes January 18\, 2023\n\n  \n\nNew Business             \n\n  \n\nPersons to be Heard\n\n  \n\nCorrespondence             \n\n  \n\nZEO report\n\n  \n\nOther Business             Zoning Regulations- 30 minutes\n\n                                      \n\nAdjourn
URL:https://www.unionconnecticut.org/event/planning-zoning-commission-meeting-9/
CATEGORIES:Planning & Zoning Commission Meetings
ATTACH;FMTTYPE=image/jpeg:https://www.unionconnecticut.org/wp-content/uploads/2022/06/Planning-Zoning-Commission.jpg
END:VEVENT
BEGIN:VEVENT
DTSTART;TZID=America/New_York:20221102T193000
DTEND;TZID=America/New_York:20221102T203000
DTSTAMP:20260422T203853
CREATED:20220928T141115Z
LAST-MODIFIED:20221101T151050Z
UID:3930-1667417400-1667421000@www.unionconnecticut.org
SUMMARY:Planning & Zoning Commission Meeting
DESCRIPTION:Planning & Zoning Commission MeetingAGENDA NOTICE \n November 2\, 2022 \n7:30 pm \nUnion Town Hall\, Upper Level \n\nSeating of Alternates\n\n\nMinutes October 19\, 2022\n\n\nNew Business             Public Act 21-29\n\n\nOld Business              154 Cemetery Road Special Permit Application for Earth Removal                                                                                                                           (Commission review and discussion)\n\n\nPersons to be Heard\n\n\nCorrespondence\n\n\nZEO report\n\n\nOther Business             Zoning Regulations\n\n\nAdjourn
URL:https://www.unionconnecticut.org/event/planning-zoning-commission-meeting-7/
CATEGORIES:Planning & Zoning Commission Meetings
ATTACH;FMTTYPE=image/jpeg:https://www.unionconnecticut.org/wp-content/uploads/2022/06/Planning-Zoning-Commission.jpg
END:VEVENT
BEGIN:VEVENT
DTSTART;TZID=America/New_York:20221005T193000
DTEND;TZID=America/New_York:20221005T203000
DTSTAMP:20260422T203853
CREATED:20220928T141243Z
LAST-MODIFIED:20221004T134226Z
UID:3932-1664998200-1665001800@www.unionconnecticut.org
SUMMARY:Planning & Zoning Commission Meeting
DESCRIPTION:Planning & Zoning Commission MeetingPlanning and Zoning and Wetlands Commission \nTown of Union\, Connecticut \n___________________________ \n1043 Buckley Highway\, Union\, CT  06076 \n“This Institution is an Equal Opportunity Provider and Employer.” \n  \n  \nAGENDA NOTICE \n  \nOctober 5\, 2022 \n7:30 pm \nUnion Town Hall\, Upper Level \n\nSeating of Alternates\n\n\nMinutes September 21\, 2022\n\n\nNew Business\nJessica & Philip McCaffery (Vote to approve Inland/Wetland Permit- 160 Stickney Hill Road)\n\nJeff Cavar (Street #- Mashapaug Road) \nWilliam Saunders (Shed-150 Webster Road) \n154 Cemetery Road Special Permit Application for Earth Removal (Commission review and discussion). \n\nPersons to be Heard\n\n\nCorrespondence\n\n\nZEO report\n\n\nOther Business             Zoning Regulations\n\n\nAdjourn
URL:https://www.unionconnecticut.org/event/planning-zoning-commission-meeting-8/
CATEGORIES:Planning & Zoning Commission Meetings
ATTACH;FMTTYPE=image/jpeg:https://www.unionconnecticut.org/wp-content/uploads/2022/06/Planning-Zoning-Commission.jpg
END:VEVENT
BEGIN:VEVENT
DTSTART;TZID=America/New_York:20220921T193000
DTEND;TZID=America/New_York:20220921T203000
DTSTAMP:20260422T203853
CREATED:20220702T182115Z
LAST-MODIFIED:20220823T165817Z
UID:2741-1663788600-1663792200@www.unionconnecticut.org
SUMMARY:Planning & Zoning Commission Meeting
DESCRIPTION:Planning & Zoning Commission Meeting
URL:https://www.unionconnecticut.org/event/planning-zoning-commission-meeting-6/
CATEGORIES:Planning & Zoning Commission Meetings
ATTACH;FMTTYPE=image/jpeg:https://www.unionconnecticut.org/wp-content/uploads/2022/06/Planning-Zoning-Commission.jpg
END:VEVENT
BEGIN:VEVENT
DTSTART;TZID=America/New_York:20220907T193000
DTEND;TZID=America/New_York:20220907T203000
DTSTAMP:20260422T203853
CREATED:20220702T181844Z
LAST-MODIFIED:20220906T135139Z
UID:2735-1662579000-1662582600@www.unionconnecticut.org
SUMMARY:Planning & Zoning Commission Meeting
DESCRIPTION:Planning and Zoning and Wetlands Commission \nTown of Union\, Connecticut \n___________________________ \n1043 Buckley Highway\, Union\, CT  06076 \nLOWER LEVEL\, COMMUNITY ROOM \n“This Institution is an Equal Opportunity Provider and Employer.” \n  \nThe Planning and Zoning Public Hearing regarding a Special Permit Application for Earth Removal at 154 Cemetery Road\, held August 17\, 2022\, was continued to September 7\, 2022 at 7:30 pm for interested parties to be heard.  \n  \nAGENDA NOTICE \n  \nSeptember 7\, 2022 \nFollowing Public Hearing \nUnion Town Hall \n\nSeating of Alternates\n\n\nMinutes August 17\, 2022 (Hearing & Meeting)\n\n\nNew Business             Jeff Cavar (Barn & Street Number- Mashapaug Road)\n\nChris Young (House & Street Number- Cemetery Road) \nWilliam Saunders (Shed- 150 Webster Road) \nVirginia Torti- Crematorium \nMark Branse\, Esq.- (154 Cemetery Road Special Permit) \n\nPersons to be Heard\n\n\nCorrespondence\n\n\nZEO report\n\n\nOther Business             Zoning Regulations\n\n\nAdjourn
URL:https://www.unionconnecticut.org/event/planning-zoning-commission-meeting-5/
CATEGORIES:Planning & Zoning Commission Meetings
ATTACH;FMTTYPE=image/jpeg:https://www.unionconnecticut.org/wp-content/uploads/2022/06/Planning-Zoning-Commission.jpg
END:VEVENT
BEGIN:VEVENT
DTSTART;TZID=America/New_York:20220817T163000
DTEND;TZID=America/New_York:20220817T170000
DTSTAMP:20260422T203853
CREATED:20220702T181428Z
LAST-MODIFIED:20220816T185059Z
UID:2724-1660753800-1660755600@www.unionconnecticut.org
SUMMARY:Planning & Zoning Commission Meeting
DESCRIPTION:Planning & Zoning Commission MeetingMeeting Agenda\nPlanning and Zoning and Wetlands Commission \nTown of Union\, Connecticut \n___________________________ \n1043 Buckley Highway\, Union\, CT  06076 \n“This Institution is an Equal Opportunity Provider and Employer.” \n  \nLEGAL NOTICE \nPlanning and Zoning/Inland Wetland Commission \nTown of Union CT \nThe Town of Union Planning and Zoning Commission will hold a Public Hearing on August 17\, 2022 at 7:30pm at the Union Town Hall Lower Level\, 1043 Buckley Highway\, for the following: \nTo discuss a Special Permit Application of Brian Sheldon\, Quinebaug Forestry & Mulching Products LLC\, for the removal of approximately 100\,000 cubic yards of sand and gravel from a 3-acre area located on property at 154 Cemetery Road. \nInterested parties will be heard. \nThe application is available for review at the Town Clerk’s Office during regular business hours. \nMat Silbermann\, Chairman P&Z \n  \n AGENDA NOTICE \n  \nAugust 17\, 2022 \nFollowing Public Hearing \nUnion Town Hall \n\nSeating of Alternates\n\n\nMinutes August 3\, 2022\n\n\nNew Business\n\n\nPersons to be Heard Jon Beaulieu- 66 Cemetery Road\n\n\nCorrespondence\n\n\nZEO report\n\n\nOther Business             Zoning Regulations\n\n\nAdjourn
URL:https://www.unionconnecticut.org/event/planning-zoning-commission-meeting-4/
CATEGORIES:Planning & Zoning Commission Meetings
ATTACH;FMTTYPE=image/jpeg:https://www.unionconnecticut.org/wp-content/uploads/2022/06/Planning-Zoning-Commission.jpg
END:VEVENT
BEGIN:VEVENT
DTSTART;TZID=America/New_York:20220803T153000
DTEND;TZID=America/New_York:20220803T163000
DTSTAMP:20260422T203853
CREATED:20220702T181333Z
LAST-MODIFIED:20220802T175705Z
UID:2720-1659540600-1659544200@www.unionconnecticut.org
SUMMARY:Planning & Zoning Commission Meeting
DESCRIPTION:Planning & Zoning Commission MeetingMeeting Agenda\nPlanning and Zoning and Wetlands Commission \nTown of Union\, Connecticut \n___________________________ \n1043 Buckley Highway\, Union\, CT  06076 \n“This Institution is an Equal Opportunity Provider and Employer.” \nAGENDA NOTICE \n  \nAugust 3\, 2022 \n7:30pm \nUnion Town Hall\, Upper Level \n  \n\nSeating of Alternates\n\n  \n\nMinutes July 20\, 2022\n\n  \n\nNew Business                                    \n\n  \n\nPersons to be Heard\n\n  \n\nCorrespondence                         \n\n  \n\nZEO report\n\n  \n\nOther Business             Zoning Regulations\n\n                                      \n\nAdjourn\n\n           
URL:https://www.unionconnecticut.org/event/planning-zoning-commission-meeting-3/
CATEGORIES:Planning & Zoning Commission Meetings
ATTACH;FMTTYPE=image/jpeg:https://www.unionconnecticut.org/wp-content/uploads/2022/06/Planning-Zoning-Commission.jpg
END:VEVENT
BEGIN:VEVENT
DTSTART;TZID=America/New_York:20220720T153000
DTEND;TZID=America/New_York:20220720T163000
DTSTAMP:20260422T203853
CREATED:20220702T181129Z
LAST-MODIFIED:20220720T175948Z
UID:2715-1658331000-1658334600@www.unionconnecticut.org
SUMMARY:Planning & Zoning Commission Meeting
DESCRIPTION:Planning & Zoning Commission MeetingClick here to download/print meeting agenda
URL:https://www.unionconnecticut.org/event/planning-zoning-commission-meeting-2/
CATEGORIES:Planning & Zoning Commission Meetings
ATTACH;FMTTYPE=image/jpeg:https://www.unionconnecticut.org/wp-content/uploads/2022/06/Planning-Zoning-Commission.jpg
END:VEVENT
BEGIN:VEVENT
DTSTART;TZID=America/New_York:20220706T153000
DTEND;TZID=America/New_York:20220706T163000
DTSTAMP:20260422T203853
CREATED:20220629T161618Z
LAST-MODIFIED:20220715T174802Z
UID:2354-1657121400-1657125000@www.unionconnecticut.org
SUMMARY:Planning & Zoning Commission Meeting
DESCRIPTION:Planning & Zoning Commission Meeting
URL:https://www.unionconnecticut.org/event/planning-zoning-commission-meeting/
CATEGORIES:Planning & Zoning Commission Meetings
ATTACH;FMTTYPE=image/jpeg:https://www.unionconnecticut.org/wp-content/uploads/2022/06/Planning-Zoning-Commission.jpg
END:VEVENT
END:VCALENDAR