BEGIN:VCALENDAR
VERSION:2.0
PRODID:-//Town of Union, Connecticut | Established 1734 - ECPv6.15.20//NONSGML v1.0//EN
CALSCALE:GREGORIAN
METHOD:PUBLISH
X-WR-CALNAME:Town of Union, Connecticut | Established 1734
X-ORIGINAL-URL:https://www.unionconnecticut.org
X-WR-CALDESC:Events for Town of Union, Connecticut | Established 1734
REFRESH-INTERVAL;VALUE=DURATION:PT1H
X-Robots-Tag:noindex
X-PUBLISHED-TTL:PT1H
BEGIN:VTIMEZONE
TZID:America/New_York
BEGIN:DAYLIGHT
TZOFFSETFROM:-0500
TZOFFSETTO:-0400
TZNAME:EDT
DTSTART:20240310T070000
END:DAYLIGHT
BEGIN:STANDARD
TZOFFSETFROM:-0400
TZOFFSETTO:-0500
TZNAME:EST
DTSTART:20241103T060000
END:STANDARD
BEGIN:DAYLIGHT
TZOFFSETFROM:-0500
TZOFFSETTO:-0400
TZNAME:EDT
DTSTART:20250309T070000
END:DAYLIGHT
BEGIN:STANDARD
TZOFFSETFROM:-0400
TZOFFSETTO:-0500
TZNAME:EST
DTSTART:20251102T060000
END:STANDARD
BEGIN:DAYLIGHT
TZOFFSETFROM:-0500
TZOFFSETTO:-0400
TZNAME:EDT
DTSTART:20260308T070000
END:DAYLIGHT
BEGIN:STANDARD
TZOFFSETFROM:-0400
TZOFFSETTO:-0500
TZNAME:EST
DTSTART:20261101T060000
END:STANDARD
BEGIN:DAYLIGHT
TZOFFSETFROM:-0500
TZOFFSETTO:-0400
TZNAME:EDT
DTSTART:20270314T070000
END:DAYLIGHT
BEGIN:STANDARD
TZOFFSETFROM:-0400
TZOFFSETTO:-0500
TZNAME:EST
DTSTART:20271107T060000
END:STANDARD
END:VTIMEZONE
BEGIN:VEVENT
DTSTART;TZID=America/New_York:20251203T190000
DTEND;TZID=America/New_York:20251203T203000
DTSTAMP:20260423T175252
CREATED:20250625T151307Z
LAST-MODIFIED:20251202T133546Z
UID:6801-1764788400-1764793800@www.unionconnecticut.org
SUMMARY:Planning & Zoning Meeting December 3\, 2025\, 7:00 pm
DESCRIPTION:Planning & Zoning Commission MeetingPlanning and Zoning and Wetlands Commission \nTown of Union\, Connecticut \n___________________________ \n1043 Buckley Highway\, Union\, CT  06076 \n“This Institution is an Equal Opportunity Provider and Employer.” \n  \nAGENDA NOTICE \n  \nDecember 3\, 2025 \n7:00 pm \nUnion Town Hall \n\nSeating of Alternates\n\n\nMinutes             November 19\, 2025\n\n\nNew Business             Jim George- 421 Stickney Hill Road- Garage\n\nJay McGlone- 780-9 Whipple Lane- Garage \nDennis & Devon Mullen- 21 Szych Road- Campers \nJim Luczak- 124 Cemetery Road- Permit Renewal \n\nPersons to be Heard\n\n\nCorrespondence\n\n\nZEO report\n\n\nOther Business\n\n\nAdjourn
URL:https://www.unionconnecticut.org/event/planning-zoning-meeting-december-3-2025/
CATEGORIES:Planning & Zoning Commission Meetings
ATTACH;FMTTYPE=image/jpeg:https://www.unionconnecticut.org/wp-content/uploads/2022/06/Planning-Zoning-Commission.jpg
END:VEVENT
BEGIN:VEVENT
DTSTART;TZID=America/New_York:20251217T190000
DTEND;TZID=America/New_York:20251217T203000
DTSTAMP:20260423T175252
CREATED:20250625T151436Z
LAST-MODIFIED:20251216T125505Z
UID:6805-1765998000-1766003400@www.unionconnecticut.org
SUMMARY:Planning & Zoning Meeting December 17\, 2025\, 7:00 pm
DESCRIPTION:Planning and Zoning and Wetlands Commission \nTown of Union\, Connecticut \n___________________________ \n1043 Buckley Highway\, Union\, CT  06076 \n“This Institution is an Equal Opportunity Provider and Employer.” \n  \nAGENDA NOTICE \n  \nDecember 17\, 2025 \n7:00 pm \nUnion Town Hall \n\nSeating of Alternates\n\n\nMinutes             December 03\, 2025\n\n\nPersons to be Heard\n\n\nOld Business             Jim George- 421 Stickney Hill Road- Wetland Permit- Garage\n\nJim Luczak- 124 Cemetery Road- Permit Renewal \n\nCorrespondence\n\n\nZEO report\n\n\nOther Business\n\n\nAdjourn
URL:https://www.unionconnecticut.org/event/planning-zoning-meeting-december-17-2025/
CATEGORIES:Planning & Zoning Commission Meetings
ATTACH;FMTTYPE=image/jpeg:https://www.unionconnecticut.org/wp-content/uploads/2022/06/Planning-Zoning-Commission.jpg
END:VEVENT
BEGIN:VEVENT
DTSTART;TZID=America/New_York:20260107T190000
DTEND;TZID=America/New_York:20260107T203000
DTSTAMP:20260423T175252
CREATED:20251210T154055Z
LAST-MODIFIED:20260106T140640Z
UID:7295-1767812400-1767817800@www.unionconnecticut.org
SUMMARY:Planning & Zoning Meeting January 7\, 2026\, 7:00 pm
DESCRIPTION:Planning & Zoning Commission MeetingPlanning and Zoning and Wetlands Commission \nTown of Union\, Connecticut \n___________________________ \n1043 Buckley Highway\, Union\, CT  06076 \n“This Institution is an Equal Opportunity Provider and Employer.” \n  \nAGENDA NOTICE \n  \nJanuary 7\, 2026 \n7:00 pm \nUnion Town Hall \n\nSeating of Alternates\n\n\nMinutes             December 17\, 2025\n\n\nPersons to be Heard\n\n\nNew Business Marilyn Barlow- 180 Stickney Hill Road- Greenhouse\n\n\nOld Business             Jim George- 421 Stickney Hill Road- Wetland Permit- Garage\n\nJim Luczak- 124 Cemetery Road- Permit Renewal \n\nCorrespondence\n\n\nZEO report\n\n\nOther Business\n\n\nAdjourn
URL:https://www.unionconnecticut.org/event/planning-zoning-meeting-january-7-2026-700-pm/
CATEGORIES:Planning & Zoning Commission Meetings
ATTACH;FMTTYPE=image/jpeg:https://www.unionconnecticut.org/wp-content/uploads/2022/06/Planning-Zoning-Commission.jpg
END:VEVENT
BEGIN:VEVENT
DTSTART;TZID=America/New_York:20260121T190000
DTEND;TZID=America/New_York:20260121T203000
DTSTAMP:20260423T175252
CREATED:20251210T154139Z
LAST-MODIFIED:20260120T133555Z
UID:7297-1769022000-1769027400@www.unionconnecticut.org
SUMMARY:Planning & Zoning Meeting January 21\, 2026\, 7:00 pm
DESCRIPTION:Planning & Zoning Commission MeetingPlanning and Zoning and Wetlands Commission \nTown of Union\, Connecticut \n___________________________ \n1043 Buckley Highway\, Union\, CT  06076 \n“This Institution is an Equal Opportunity Provider and Employer.” \n  \nAGENDA NOTICE \n  \nJanuary 21\, 2026 \n7:00 pm \nUnion Town Hall \n\nSeating of Alternates\n\n\nMinutes             January 7\, 2026\n\n\nPersons to be Heard\n\n\nOld Business            Jim Luczak- 124 Cemetery Road- Special Permit Renewal\n\n\nCorrespondence\n\n\nZEO report\n\n\nOther Business\n\n\nAdjourn
URL:https://www.unionconnecticut.org/event/planning-zoning-meeting-january-21-2026-700-pm/
CATEGORIES:Planning & Zoning Commission Meetings
ATTACH;FMTTYPE=image/jpeg:https://www.unionconnecticut.org/wp-content/uploads/2022/06/Planning-Zoning-Commission.jpg
END:VEVENT
BEGIN:VEVENT
DTSTART;TZID=America/New_York:20260204T190000
DTEND;TZID=America/New_York:20260204T203000
DTSTAMP:20260423T175252
CREATED:20251210T154225Z
LAST-MODIFIED:20260203T133846Z
UID:7299-1770231600-1770237000@www.unionconnecticut.org
SUMMARY:Planning & Zoning Meeting February 4\, 2026\, 7:00 pm
DESCRIPTION:Planning & Zoning Commission MeetingPlanning and Zoning and Wetlands Commission \nTown of Union\, Connecticut \n___________________________ \n1043 Buckley Highway\, Union\, CT  06076 \n“This Institution is an Equal Opportunity Provider and Employer.” \n  \nAGENDA NOTICE \n  \nFebruary 04\, 2026 \n7:00 pm \nUnion Town Hall \n\nSeating of Alternates\n\n\nMinutes             January 21\, 2026\n\n\nPersons to be Heard\n\n\nNew Business George Perreault- Stickney Hill Road Lot 34- Driveway\n\nChris Ruskin- 403 Bigelow Hollow Road- Special Permit \nMorris Lewis- 375 Stickney Hill Road- House \n\nOld Business            Jim Luczak- 124 Cemetery Road- Special Permit Renewal\n\n\nCorrespondence\n\n\nZEO report\n\n\nOther Business\n\n\nAdjourn
URL:https://www.unionconnecticut.org/event/planning-zoning-meeting-february-4-2026-700-pm/
CATEGORIES:Planning & Zoning Commission Meetings
ATTACH;FMTTYPE=image/jpeg:https://www.unionconnecticut.org/wp-content/uploads/2022/06/Planning-Zoning-Commission.jpg
END:VEVENT
BEGIN:VEVENT
DTSTART;TZID=America/New_York:20260218T190000
DTEND;TZID=America/New_York:20260218T203000
DTSTAMP:20260423T175252
CREATED:20251210T154358Z
LAST-MODIFIED:20260217T134008Z
UID:7301-1771441200-1771446600@www.unionconnecticut.org
SUMMARY:Planning & Zoning Meeting February 18\, 2026\, 7:00 pm
DESCRIPTION:Planning & Zoning Commission MeetingPlanning and Zoning and Wetlands Commission \nTown of Union\, Connecticut \n___________________________ \n1043 Buckley Highway\, Union\, CT  06076 \n“This Institution is an Equal Opportunity Provider and Employer.” \n  \nAGENDA NOTICE \n  \nFebruary 18\, 2026 \n7:00 pm \nUnion Town Hall \n\nSeating of Alternates\n\n\nMinutes             February 4\, 2026\n\n\nPersons to be Heard\n\n\nNew Business Chris Ruskin- 403 Bigelow Hollow Road- Barn Extension\n\nMorris Lewis- Stickney Hill Road (01/01/033)- House \nPeter Barlow- 180 Stickney Hill Road- Greenhouse \n\nOld Business            Jim Luczak- 124 Cemetery Road- Special Permit Renewal\n\n\nCorrespondence\n\n\nZEO report\n\n\nOther Business\n\n\nAdjourn
URL:https://www.unionconnecticut.org/event/planning-zoning-meeting-february-18-2026-700-pm/
CATEGORIES:Planning & Zoning Commission Meetings
ATTACH;FMTTYPE=image/jpeg:https://www.unionconnecticut.org/wp-content/uploads/2022/06/Planning-Zoning-Commission.jpg
END:VEVENT
BEGIN:VEVENT
DTSTART;TZID=America/New_York:20260304T190000
DTEND;TZID=America/New_York:20260304T203000
DTSTAMP:20260423T175252
CREATED:20251210T154436Z
LAST-MODIFIED:20260303T133850Z
UID:7303-1772650800-1772656200@www.unionconnecticut.org
SUMMARY:Planning & Zoning Meeting March 4\, 2026\, 7:00 pm
DESCRIPTION:Planning & Zoning Commission MeetingPlanning and Zoning and Wetlands Commission \nTown of Union\, Connecticut \n___________________________ \n1043 Buckley Highway\, Union\, CT  06076 \n“This Institution is an Equal Opportunity Provider and Employer.” \n  \nAGENDA NOTICE \n  \nMarch 4\, 2026 \n7:00 pm \nUnion Town Hall \n\nSeating of Alternates\n\n\nMinutes             February 18\, 2026\n\n\nPersons to be Heard\n\n\nOld Business Chris Ruskin- 403 Bigelow Hollow Road- Barn Extension\n\n\nNew Business Chris Ruskin- 403 Bigelow Hollow Road- Special Permit\n\nRenewal- Dog Kennels \nMorris Lewis- Stickney Hill Road (01/01/033)- House \nPeter Barlow- 180 Stickney Hill Road- Greenhouse \n\nCorrespondence\n\n\nZEO report\n\n\nOther Business\n\n\nAdjourn
URL:https://www.unionconnecticut.org/event/planning-zoning-meeting-march-4-2026-700-pm/
CATEGORIES:Planning & Zoning Commission Meetings
ATTACH;FMTTYPE=image/jpeg:https://www.unionconnecticut.org/wp-content/uploads/2022/06/Planning-Zoning-Commission.jpg
END:VEVENT
BEGIN:VEVENT
DTSTART;TZID=America/New_York:20260318T190000
DTEND;TZID=America/New_York:20260318T203000
DTSTAMP:20260423T175252
CREATED:20251210T154509Z
LAST-MODIFIED:20260310T125049Z
UID:7305-1773860400-1773865800@www.unionconnecticut.org
SUMMARY:CANCELLED Planning & Zoning Meeting March 18\, 2026\, 7:00 pm CANCELLED
DESCRIPTION:Planning & Zoning Commission MeetingThe March 18th planning and zoning meeting is cancelled. A majority of the board members are unable to attend. \nA special meeting on March 25th will be held in its place. \nThank you\, \nLeanne Lake
URL:https://www.unionconnecticut.org/event/planning-zoning-meeting-march-18-2026-700-pm/
CATEGORIES:Planning & Zoning Commission Meetings
ATTACH;FMTTYPE=image/jpeg:https://www.unionconnecticut.org/wp-content/uploads/2022/06/Planning-Zoning-Commission.jpg
END:VEVENT
BEGIN:VEVENT
DTSTART;TZID=America/New_York:20260325T190000
DTEND;TZID=America/New_York:20260325T203000
DTSTAMP:20260423T175252
CREATED:20260310T125225Z
LAST-MODIFIED:20260331T132907Z
UID:7688-1774465200-1774470600@www.unionconnecticut.org
SUMMARY:Planning & Zoning Special Meeting March 25\, 2026\, 7:00 pm
DESCRIPTION:Planning & Zoning Commission MeetingPlanning and Zoning and Wetlands Commission \nTown of Union\, Connecticut \n___________________________ \n1043 Buckley Highway\, Union\, CT  06076 \n“This Institution is an Equal Opportunity Provider and Employer.” \n  \nSPECIAL MEETING \nAGENDA NOTICE \n  \nMarch 25\, 2026 \n7:00 pm \nUnion Town Hall \n\nSeating of Alternates\n\n\nMinutes             March 4\, 2026\n\n\nPersons to be Heard Chris Ruskin- 403 Bigelow Hollow Road- Barn Questions\n\n\nOld Business             Morris Lewis- Stickney Hill Road (01/01/033)- House\n\n\nNew Business Peter Barlow- 180 Stickney Hill Road- Greenhouse\n\nJay McGlone- 780-9 Whipple Lane- Garage \n\nCorrespondence\n\n\nZEO report\n\n\nOther Business\n\n\nAdjourn
URL:https://www.unionconnecticut.org/event/planning-zoning-special-meeting-march-25-2026-700-pm/
CATEGORIES:Planning & Zoning Commission Meetings
ATTACH;FMTTYPE=image/jpeg:https://www.unionconnecticut.org/wp-content/uploads/2022/06/Planning-Zoning-Commission.jpg
END:VEVENT
BEGIN:VEVENT
DTSTART;TZID=America/New_York:20260401T190000
DTEND;TZID=America/New_York:20260401T203000
DTSTAMP:20260423T175252
CREATED:20260225T181209Z
LAST-MODIFIED:20260331T132807Z
UID:7543-1775070000-1775075400@www.unionconnecticut.org
SUMMARY:Planning & Zoning Meeting April 1\, 2026\, 7:00 pm
DESCRIPTION:Planning & Zoning Commission MeetingTown of Union\, Connecticut \n___________________________ \n1043 Buckley Highway\, Union\, CT  06076 \n“This Institution is an Equal Opportunity Provider and Employer.” \n  \nAGENDA NOTICE \n  \nApril 1\, 2026 \n7:00 pm \nUnion Town Hall \n\nSeating of Alternates\n\n\nMinutes             March 25\, 2026\n\n\nPersons to be Heard\n\n\nOld Business             Peter Barlow- 180 Stickney Hill Road- Greenhouse\n\nMorris Lewis- 375 Stickney Hill Road (01/01/033)- House \n\nNew Business Paul Rizza- 205 Bigelow Hollow Road- Deck Extension\n\n\nCorrespondence\n\n\nZEO report\n\n\nOther Business\n\n\nAdjourn
URL:https://www.unionconnecticut.org/event/planning-zoning-meeting-april-1-2026-700-pm/
CATEGORIES:Planning & Zoning Commission Meetings
ATTACH;FMTTYPE=image/jpeg:https://www.unionconnecticut.org/wp-content/uploads/2022/06/Planning-Zoning-Commission.jpg
END:VEVENT
BEGIN:VEVENT
DTSTART;TZID=America/New_York:20260422T190000
DTEND;TZID=America/New_York:20260422T203000
DTSTAMP:20260423T175252
CREATED:20260225T181300Z
LAST-MODIFIED:20260421T122912Z
UID:7545-1776884400-1776889800@www.unionconnecticut.org
SUMMARY:Planning & Zoning Special Meeting April 22\, 2026\, 7:00 pm
DESCRIPTION:Planning & Zoning Commission MeetingPlanning and Zoning and Wetlands Commission \nTown of Union\, Connecticut \n___________________________ \n1043 Buckley Highway\, Union\, CT  06076 \n“This Institution is an Equal Opportunity Provider and Employer.” \n  \nSPECIAL MEETING \nAGENDA NOTICE \n  \nApril 22\, 2026 \n7:00 pm \nUnion Town Hall \n\nSeating of Alternates\n\n\nMinutes             April 01\, 2026\n\n\nPersons to be Heard Devon Mullen- Szych Road- Property Plan\n\n\nOld Business             Morris Lewis- 375 Stickney Hill Road (01/01/033)- House\n\nPaul Rizza- 205 Bigelow Hollow Road- Deck Extension \n\nNew Business Jay McGlone- 780-9 Whipple Lane- Addition\n\n\nCorrespondence\n\n\nZEO report\n\n\nOther Business\n\n\nAdjourn
URL:https://www.unionconnecticut.org/event/planning-zoning-meeting-april-15-2026-700-pm/
CATEGORIES:Planning & Zoning Commission Meetings
ATTACH;FMTTYPE=image/jpeg:https://www.unionconnecticut.org/wp-content/uploads/2022/06/Planning-Zoning-Commission.jpg
END:VEVENT
BEGIN:VEVENT
DTSTART;TZID=America/New_York:20260506T190000
DTEND;TZID=America/New_York:20260506T203000
DTSTAMP:20260423T175252
CREATED:20260225T181357Z
LAST-MODIFIED:20260225T181357Z
UID:7547-1778094000-1778099400@www.unionconnecticut.org
SUMMARY:Planning & Zoning Meeting May 6\, 2026\, 7:00 pm
DESCRIPTION:Planning & Zoning Commission Meeting
URL:https://www.unionconnecticut.org/event/planning-zoning-meeting-may-6-2026-700-pm/
CATEGORIES:Planning & Zoning Commission Meetings
ATTACH;FMTTYPE=image/jpeg:https://www.unionconnecticut.org/wp-content/uploads/2022/06/Planning-Zoning-Commission.jpg
END:VEVENT
BEGIN:VEVENT
DTSTART;TZID=America/New_York:20260520T190000
DTEND;TZID=America/New_York:20260520T203000
DTSTAMP:20260423T175252
CREATED:20260225T181425Z
LAST-MODIFIED:20260225T181425Z
UID:7550-1779303600-1779309000@www.unionconnecticut.org
SUMMARY:Planning & Zoning Meeting May 20\, 2026\, 7:00 pm
DESCRIPTION:Planning & Zoning Commission Meeting
URL:https://www.unionconnecticut.org/event/planning-zoning-meeting-may-20-2026-700-pm/
CATEGORIES:Planning & Zoning Commission Meetings
ATTACH;FMTTYPE=image/jpeg:https://www.unionconnecticut.org/wp-content/uploads/2022/06/Planning-Zoning-Commission.jpg
END:VEVENT
BEGIN:VEVENT
DTSTART;TZID=America/New_York:20260603T190000
DTEND;TZID=America/New_York:20260603T203000
DTSTAMP:20260423T175252
CREATED:20260225T181452Z
LAST-MODIFIED:20260225T181452Z
UID:7549-1780513200-1780518600@www.unionconnecticut.org
SUMMARY:Planning & Zoning Meeting June 3\, 2026\, 7:00 pm
DESCRIPTION:Planning & Zoning Commission Meeting
URL:https://www.unionconnecticut.org/event/planning-zoning-meeting-june-3-2026-700-pm/
CATEGORIES:Planning & Zoning Commission Meetings
ATTACH;FMTTYPE=image/jpeg:https://www.unionconnecticut.org/wp-content/uploads/2022/06/Planning-Zoning-Commission.jpg
END:VEVENT
BEGIN:VEVENT
DTSTART;TZID=America/New_York:20260617T190000
DTEND;TZID=America/New_York:20260617T203000
DTSTAMP:20260423T175252
CREATED:20260225T181519Z
LAST-MODIFIED:20260225T181519Z
UID:7548-1781722800-1781728200@www.unionconnecticut.org
SUMMARY:Planning & Zoning Meeting June 17\, 2026\, 7:00 pm
DESCRIPTION:Planning & Zoning Commission Meeting
URL:https://www.unionconnecticut.org/event/planning-zoning-meeting-june-17-2026-700-pm/
CATEGORIES:Planning & Zoning Commission Meetings
ATTACH;FMTTYPE=image/jpeg:https://www.unionconnecticut.org/wp-content/uploads/2022/06/Planning-Zoning-Commission.jpg
END:VEVENT
BEGIN:VEVENT
DTSTART;TZID=America/New_York:20260701T190000
DTEND;TZID=America/New_York:20260701T203000
DTSTAMP:20260423T175252
CREATED:20260225T181555Z
LAST-MODIFIED:20260225T181555Z
UID:7555-1782932400-1782937800@www.unionconnecticut.org
SUMMARY:Planning & Zoning Meeting July 1\, 2026\, 7:00 pm
DESCRIPTION:Planning & Zoning Commission Meeting
URL:https://www.unionconnecticut.org/event/planning-zoning-meeting-july-1-2026-700-pm/
CATEGORIES:Planning & Zoning Commission Meetings
ATTACH;FMTTYPE=image/jpeg:https://www.unionconnecticut.org/wp-content/uploads/2022/06/Planning-Zoning-Commission.jpg
END:VEVENT
BEGIN:VEVENT
DTSTART;TZID=America/New_York:20260715T190000
DTEND;TZID=America/New_York:20260715T203000
DTSTAMP:20260423T175252
CREATED:20260225T181627Z
LAST-MODIFIED:20260225T181627Z
UID:7557-1784142000-1784147400@www.unionconnecticut.org
SUMMARY:Planning & Zoning Meeting July 15\, 2026\, 7:00 pm
DESCRIPTION:Planning & Zoning Commission Meeting
URL:https://www.unionconnecticut.org/event/planning-zoning-meeting-july-15-2026-700-pm/
CATEGORIES:Planning & Zoning Commission Meetings
ATTACH;FMTTYPE=image/jpeg:https://www.unionconnecticut.org/wp-content/uploads/2022/06/Planning-Zoning-Commission.jpg
END:VEVENT
BEGIN:VEVENT
DTSTART;TZID=America/New_York:20260805T190000
DTEND;TZID=America/New_York:20260805T203000
DTSTAMP:20260423T175252
CREATED:20260225T182540Z
LAST-MODIFIED:20260225T182540Z
UID:7583-1785956400-1785961800@www.unionconnecticut.org
SUMMARY:Planning & Zoning Meeting August 5\, 2026\, 7:00 pm
DESCRIPTION:Planning & Zoning Commission Meeting
URL:https://www.unionconnecticut.org/event/planning-zoning-meeting-august-5-2026-700-pm/
CATEGORIES:Planning & Zoning Commission Meetings
ATTACH;FMTTYPE=image/jpeg:https://www.unionconnecticut.org/wp-content/uploads/2022/06/Planning-Zoning-Commission.jpg
END:VEVENT
BEGIN:VEVENT
DTSTART;TZID=America/New_York:20260819T190000
DTEND;TZID=America/New_York:20260819T203000
DTSTAMP:20260423T175252
CREATED:20260225T182610Z
LAST-MODIFIED:20260225T182610Z
UID:7585-1787166000-1787171400@www.unionconnecticut.org
SUMMARY:Planning & Zoning Meeting August 19\, 2026\, 7:00 pm
DESCRIPTION:Planning & Zoning Commission Meeting
URL:https://www.unionconnecticut.org/event/planning-zoning-meeting-august-19-2026-700-pm/
CATEGORIES:Planning & Zoning Commission Meetings
ATTACH;FMTTYPE=image/jpeg:https://www.unionconnecticut.org/wp-content/uploads/2022/06/Planning-Zoning-Commission.jpg
END:VEVENT
BEGIN:VEVENT
DTSTART;TZID=America/New_York:20260902T190000
DTEND;TZID=America/New_York:20260902T203000
DTSTAMP:20260423T175252
CREATED:20260225T183133Z
LAST-MODIFIED:20260225T183133Z
UID:7601-1788375600-1788381000@www.unionconnecticut.org
SUMMARY:Planning & Zoning Meeting September 2\, 2026\, 7:00 pm
DESCRIPTION:Planning & Zoning Commission Meeting
URL:https://www.unionconnecticut.org/event/planning-zoning-meeting-september-2-2026-700-pm/
CATEGORIES:Planning & Zoning Commission Meetings
ATTACH;FMTTYPE=image/jpeg:https://www.unionconnecticut.org/wp-content/uploads/2022/06/Planning-Zoning-Commission.jpg
END:VEVENT
BEGIN:VEVENT
DTSTART;TZID=America/New_York:20260916T190000
DTEND;TZID=America/New_York:20260916T203000
DTSTAMP:20260423T175252
CREATED:20260225T183201Z
LAST-MODIFIED:20260225T183201Z
UID:7603-1789585200-1789590600@www.unionconnecticut.org
SUMMARY:Planning & Zoning Meeting September 16\, 2026\, 7:00 pm
DESCRIPTION:Planning & Zoning Commission Meeting
URL:https://www.unionconnecticut.org/event/planning-zoning-meeting-september-16-2026-700-pm/
CATEGORIES:Planning & Zoning Commission Meetings
ATTACH;FMTTYPE=image/jpeg:https://www.unionconnecticut.org/wp-content/uploads/2022/06/Planning-Zoning-Commission.jpg
END:VEVENT
BEGIN:VEVENT
DTSTART;TZID=America/New_York:20261007T190000
DTEND;TZID=America/New_York:20261007T203000
DTSTAMP:20260423T175252
CREATED:20260225T183230Z
LAST-MODIFIED:20260225T183230Z
UID:7605-1791399600-1791405000@www.unionconnecticut.org
SUMMARY:Planning & Zoning Meeting October 7\, 2026\, 7:00 pm
DESCRIPTION:Planning & Zoning Commission Meeting
URL:https://www.unionconnecticut.org/event/planning-zoning-meeting-october-7-2026-700-pm/
CATEGORIES:Planning & Zoning Commission Meetings
ATTACH;FMTTYPE=image/jpeg:https://www.unionconnecticut.org/wp-content/uploads/2022/06/Planning-Zoning-Commission.jpg
END:VEVENT
BEGIN:VEVENT
DTSTART;TZID=America/New_York:20261021T190000
DTEND;TZID=America/New_York:20261021T203000
DTSTAMP:20260423T175252
CREATED:20260225T183258Z
LAST-MODIFIED:20260225T183258Z
UID:7607-1792609200-1792614600@www.unionconnecticut.org
SUMMARY:Planning & Zoning Meeting October 21\, 2026\, 7:00 pm
DESCRIPTION:Planning & Zoning Commission Meeting
URL:https://www.unionconnecticut.org/event/planning-zoning-meeting-october-21-2026-700-pm/
CATEGORIES:Planning & Zoning Commission Meetings
ATTACH;FMTTYPE=image/jpeg:https://www.unionconnecticut.org/wp-content/uploads/2022/06/Planning-Zoning-Commission.jpg
END:VEVENT
BEGIN:VEVENT
DTSTART;TZID=America/New_York:20261104T190000
DTEND;TZID=America/New_York:20261104T203000
DTSTAMP:20260423T175252
CREATED:20260225T183828Z
LAST-MODIFIED:20260225T183828Z
UID:7623-1793818800-1793824200@www.unionconnecticut.org
SUMMARY:Planning & Zoning Meeting November 4\, 2026\, 7:00 pm
DESCRIPTION:Planning & Zoning Commission Meeting
URL:https://www.unionconnecticut.org/event/planning-zoning-meeting-november-4-2026-700-pm/
CATEGORIES:Planning & Zoning Commission Meetings
ATTACH;FMTTYPE=image/jpeg:https://www.unionconnecticut.org/wp-content/uploads/2022/06/Planning-Zoning-Commission.jpg
END:VEVENT
BEGIN:VEVENT
DTSTART;TZID=America/New_York:20261118T190000
DTEND;TZID=America/New_York:20261118T203000
DTSTAMP:20260423T175252
CREATED:20260225T183900Z
LAST-MODIFIED:20260225T183900Z
UID:7625-1795028400-1795033800@www.unionconnecticut.org
SUMMARY:Planning & Zoning Meeting November 18\, 2026\, 7:00 pm
DESCRIPTION:Planning & Zoning Commission Meeting
URL:https://www.unionconnecticut.org/event/planning-zoning-meeting-november-18-2026-700-pm/
CATEGORIES:Planning & Zoning Commission Meetings
ATTACH;FMTTYPE=image/jpeg:https://www.unionconnecticut.org/wp-content/uploads/2022/06/Planning-Zoning-Commission.jpg
END:VEVENT
BEGIN:VEVENT
DTSTART;TZID=America/New_York:20261202T190000
DTEND;TZID=America/New_York:20261202T203000
DTSTAMP:20260423T175252
CREATED:20260225T183933Z
LAST-MODIFIED:20260225T183933Z
UID:7627-1796238000-1796243400@www.unionconnecticut.org
SUMMARY:Planning & Zoning Meeting December 2\, 2026\, 7:00 pm
DESCRIPTION:Planning & Zoning Commission Meeting
URL:https://www.unionconnecticut.org/event/planning-zoning-meeting-december-2-2026-700-pm/
CATEGORIES:Planning & Zoning Commission Meetings
ATTACH;FMTTYPE=image/jpeg:https://www.unionconnecticut.org/wp-content/uploads/2022/06/Planning-Zoning-Commission.jpg
END:VEVENT
BEGIN:VEVENT
DTSTART;TZID=America/New_York:20261216T190000
DTEND;TZID=America/New_York:20261216T203000
DTSTAMP:20260423T175252
CREATED:20260225T183959Z
LAST-MODIFIED:20260225T183959Z
UID:7629-1797447600-1797453000@www.unionconnecticut.org
SUMMARY:Planning & Zoning Meeting December 16\, 2026\, 7:00 pm
DESCRIPTION:Planning & Zoning Commission Meeting
URL:https://www.unionconnecticut.org/event/planning-zoning-meeting-december-16-2026-700-pm/
CATEGORIES:Planning & Zoning Commission Meetings
ATTACH;FMTTYPE=image/jpeg:https://www.unionconnecticut.org/wp-content/uploads/2022/06/Planning-Zoning-Commission.jpg
END:VEVENT
END:VCALENDAR