BEGIN:VCALENDAR
VERSION:2.0
PRODID:-//Town of Union, Connecticut | Established 1734 - ECPv6.15.20//NONSGML v1.0//EN
CALSCALE:GREGORIAN
METHOD:PUBLISH
X-ORIGINAL-URL:https://www.unionconnecticut.org
X-WR-CALDESC:Events for Town of Union, Connecticut | Established 1734
REFRESH-INTERVAL;VALUE=DURATION:PT1H
X-Robots-Tag:noindex
X-PUBLISHED-TTL:PT1H
BEGIN:VTIMEZONE
TZID:America/New_York
BEGIN:DAYLIGHT
TZOFFSETFROM:-0500
TZOFFSETTO:-0400
TZNAME:EDT
DTSTART:20250309T070000
END:DAYLIGHT
BEGIN:STANDARD
TZOFFSETFROM:-0400
TZOFFSETTO:-0500
TZNAME:EST
DTSTART:20251102T060000
END:STANDARD
BEGIN:DAYLIGHT
TZOFFSETFROM:-0500
TZOFFSETTO:-0400
TZNAME:EDT
DTSTART:20260308T070000
END:DAYLIGHT
BEGIN:STANDARD
TZOFFSETFROM:-0400
TZOFFSETTO:-0500
TZNAME:EST
DTSTART:20261101T060000
END:STANDARD
BEGIN:DAYLIGHT
TZOFFSETFROM:-0500
TZOFFSETTO:-0400
TZNAME:EDT
DTSTART:20270314T070000
END:DAYLIGHT
BEGIN:STANDARD
TZOFFSETFROM:-0400
TZOFFSETTO:-0500
TZNAME:EST
DTSTART:20271107T060000
END:STANDARD
END:VTIMEZONE
BEGIN:VEVENT
DTSTART;TZID=America/New_York:20260422T190000
DTEND;TZID=America/New_York:20260422T203000
DTSTAMP:20260422T134451
CREATED:20260225T181300Z
LAST-MODIFIED:20260421T122912Z
UID:7545-1776884400-1776889800@www.unionconnecticut.org
SUMMARY:Planning & Zoning Special Meeting April 22\, 2026\, 7:00 pm
DESCRIPTION:Planning & Zoning Commission MeetingPlanning and Zoning and Wetlands Commission \nTown of Union\, Connecticut \n___________________________ \n1043 Buckley Highway\, Union\, CT  06076 \n“This Institution is an Equal Opportunity Provider and Employer.” \n  \nSPECIAL MEETING \nAGENDA NOTICE \n  \nApril 22\, 2026 \n7:00 pm \nUnion Town Hall \n\nSeating of Alternates\n\n\nMinutes             April 01\, 2026\n\n\nPersons to be Heard Devon Mullen- Szych Road- Property Plan\n\n\nOld Business             Morris Lewis- 375 Stickney Hill Road (01/01/033)- House\n\nPaul Rizza- 205 Bigelow Hollow Road- Deck Extension \n\nNew Business Jay McGlone- 780-9 Whipple Lane- Addition\n\n\nCorrespondence\n\n\nZEO report\n\n\nOther Business\n\n\nAdjourn
URL:https://www.unionconnecticut.org/event/planning-zoning-meeting-april-15-2026-700-pm/
CATEGORIES:Planning & Zoning Commission Meetings
ATTACH;FMTTYPE=image/jpeg:https://www.unionconnecticut.org/wp-content/uploads/2022/06/Planning-Zoning-Commission.jpg
END:VEVENT
END:VCALENDAR