BEGIN:VCALENDAR
VERSION:2.0
PRODID:-//Town of Union, Connecticut | Established 1734 - ECPv6.15.20//NONSGML v1.0//EN
CALSCALE:GREGORIAN
METHOD:PUBLISH
X-WR-CALNAME:Town of Union, Connecticut | Established 1734
X-ORIGINAL-URL:https://www.unionconnecticut.org
X-WR-CALDESC:Events for Town of Union, Connecticut | Established 1734
REFRESH-INTERVAL;VALUE=DURATION:PT1H
X-Robots-Tag:noindex
X-PUBLISHED-TTL:PT1H
BEGIN:VTIMEZONE
TZID:America/New_York
BEGIN:DAYLIGHT
TZOFFSETFROM:-0500
TZOFFSETTO:-0400
TZNAME:EDT
DTSTART:20240310T070000
END:DAYLIGHT
BEGIN:STANDARD
TZOFFSETFROM:-0400
TZOFFSETTO:-0500
TZNAME:EST
DTSTART:20241103T060000
END:STANDARD
BEGIN:DAYLIGHT
TZOFFSETFROM:-0500
TZOFFSETTO:-0400
TZNAME:EDT
DTSTART:20250309T070000
END:DAYLIGHT
BEGIN:STANDARD
TZOFFSETFROM:-0400
TZOFFSETTO:-0500
TZNAME:EST
DTSTART:20251102T060000
END:STANDARD
BEGIN:DAYLIGHT
TZOFFSETFROM:-0500
TZOFFSETTO:-0400
TZNAME:EDT
DTSTART:20260308T070000
END:DAYLIGHT
BEGIN:STANDARD
TZOFFSETFROM:-0400
TZOFFSETTO:-0500
TZNAME:EST
DTSTART:20261101T060000
END:STANDARD
END:VTIMEZONE
BEGIN:VEVENT
DTSTART;TZID=America/New_York:20251105T190000
DTEND;TZID=America/New_York:20251105T203000
DTSTAMP:20260422T203558
CREATED:20250625T151138Z
LAST-MODIFIED:20251104T151727Z
UID:6797-1762369200-1762374600@www.unionconnecticut.org
SUMMARY:Planning & Zoning Meeting November 5\, 2025\, 7:00PM
DESCRIPTION:Planning & Zoning Commission MeetingPlanning and Zoning and Wetlands Commission \nTown of Union\, Connecticut \n___________________________ \n1043 Buckley Highway\, Union\, CT  06076 \n“This Institution is an Equal Opportunity Provider and Employer.” \n  \nAGENDA NOTICE \n  \nNovember 05\, 2025 \n7:00 pm \nUnion Town Hall \n\nSeating of Alternates\n\n\nMinutes             October 15\, 2025\n\n\nOld Business Michael Tomkunas- 144 Stickney Hill Road- Shed\n\nJesse Trinque- 244 Bigelow Hollow Road- Shed \n\nNew Business             Jim George- 421 Stickney Hill Road- Shed\n\nRebekah & Brian McDuffee- 42 Stickney Hill Rd-  Farm Stand \n\nPersons to be Heard\n\n\nCorrespondence\n\n\nZEO report\n\n\nOther Business             Meeting Dates 2026\n\n\nAdjourn
URL:https://www.unionconnecticut.org/event/planning-zoning-meeting-november-5-2025/
CATEGORIES:Planning & Zoning Commission Meetings
ATTACH;FMTTYPE=image/jpeg:https://www.unionconnecticut.org/wp-content/uploads/2022/06/Planning-Zoning-Commission.jpg
END:VEVENT
BEGIN:VEVENT
DTSTART;TZID=America/New_York:20251119T190000
DTEND;TZID=America/New_York:20251119T203000
DTSTAMP:20260422T203558
CREATED:20250625T151216Z
LAST-MODIFIED:20251118T142528Z
UID:6799-1763578800-1763584200@www.unionconnecticut.org
SUMMARY:Planning & Zoning Meeting November 19\, 2025\, 7:00 pm
DESCRIPTION:Planning & Zoning Commission MeetingPlanning and Zoning and Wetlands Commission \nTown of Union\, Connecticut \n___________________________ \n1043 Buckley Highway\, Union\, CT  06076 \n“This Institution is an Equal Opportunity Provider and Employer.” \n  \nAGENDA NOTICE \n  \nNovember 19\, 2025 \n7:00 pm \nUnion Town Hall \n\nSeating of Alternates\n\n\nMinutes             November 5\, 2025\n\n\nNew Business             Jim George- 421 Stickney Hill Road- Garage\n\nJay McGlone- 780-9 Whipple Lane- Garage \nRobert McCauley- Szych Road- Storage Sheds & Barn \nLori Rankin- 39 Stickney Hill Road- Chicken Coop \nJim Luczak- 124 Cemetery Road- Permit Renewal \n\nPersons to be Heard Jim Dabrowski- 44-40 Crawford Ctr Dr- Crumbling Foundation\n\n\nCorrespondence\n\n\nZEO report\n\n\nOther Business\n\n\nAdjourn
URL:https://www.unionconnecticut.org/event/planning-zoning-meeting-november-19-2025/
CATEGORIES:Planning & Zoning Commission Meetings
ATTACH;FMTTYPE=image/jpeg:https://www.unionconnecticut.org/wp-content/uploads/2022/06/Planning-Zoning-Commission.jpg
END:VEVENT
END:VCALENDAR