BEGIN:VCALENDAR
VERSION:2.0
PRODID:-//Town of Union, Connecticut | Established 1734 - ECPv6.15.20//NONSGML v1.0//EN
CALSCALE:GREGORIAN
METHOD:PUBLISH
X-WR-CALNAME:Town of Union, Connecticut | Established 1734
X-ORIGINAL-URL:https://www.unionconnecticut.org
X-WR-CALDESC:Events for Town of Union, Connecticut | Established 1734
REFRESH-INTERVAL;VALUE=DURATION:PT1H
X-Robots-Tag:noindex
X-PUBLISHED-TTL:PT1H
BEGIN:VTIMEZONE
TZID:America/New_York
BEGIN:DAYLIGHT
TZOFFSETFROM:-0500
TZOFFSETTO:-0400
TZNAME:EDT
DTSTART:20250309T070000
END:DAYLIGHT
BEGIN:STANDARD
TZOFFSETFROM:-0400
TZOFFSETTO:-0500
TZNAME:EST
DTSTART:20251102T060000
END:STANDARD
BEGIN:DAYLIGHT
TZOFFSETFROM:-0500
TZOFFSETTO:-0400
TZNAME:EDT
DTSTART:20260308T070000
END:DAYLIGHT
BEGIN:STANDARD
TZOFFSETFROM:-0400
TZOFFSETTO:-0500
TZNAME:EST
DTSTART:20261101T060000
END:STANDARD
BEGIN:DAYLIGHT
TZOFFSETFROM:-0500
TZOFFSETTO:-0400
TZNAME:EDT
DTSTART:20270314T070000
END:DAYLIGHT
BEGIN:STANDARD
TZOFFSETFROM:-0400
TZOFFSETTO:-0500
TZNAME:EST
DTSTART:20271107T060000
END:STANDARD
END:VTIMEZONE
BEGIN:VEVENT
DTSTART;TZID=America/New_York:20260204T190000
DTEND;TZID=America/New_York:20260204T200000
DTSTAMP:20260422T175550
CREATED:20251210T160004Z
LAST-MODIFIED:20260128T152052Z
UID:7339-1770231600-1770235200@www.unionconnecticut.org
SUMMARY:Library Board of Directors Meeting February 4\, 7:00PM
DESCRIPTION:Union Free Public Library\nLibrary Board of Directors\nIn-Person At The Union Free Public Library\nWednesday\, February 4th\, 2025\, at 7:00 PM\nCall to Order\nSecretary’s Report\nTreasurer’s Report\nLibrary Director’s Report\nUnfinished Business\nProposed FY 2026-27 Budget\nBoard Member Vacancy\nWinter Programming-\nCozy Crafting\nNew Business\nSpring Programming\nAdjourn
URL:https://www.unionconnecticut.org/event/library-board-of-directors-meeting-february-4-700pm/
LOCATION:Union Free Public Library\, 979 Buckley Highway\, Union\, 06076
CATEGORIES:Library Board of Directors
ATTACH;FMTTYPE=image/jpeg:https://www.unionconnecticut.org/wp-content/uploads/2022/06/Library-Board-of-Directors.jpg
END:VEVENT
END:VCALENDAR