BEGIN:VCALENDAR
VERSION:2.0
PRODID:-//Town of Union, Connecticut | Established 1734 - ECPv6.15.20//NONSGML v1.0//EN
CALSCALE:GREGORIAN
METHOD:PUBLISH
X-ORIGINAL-URL:https://www.unionconnecticut.org
X-WR-CALDESC:Events for Town of Union, Connecticut | Established 1734
REFRESH-INTERVAL;VALUE=DURATION:PT1H
X-Robots-Tag:noindex
X-PUBLISHED-TTL:PT1H
BEGIN:VTIMEZONE
TZID:America/New_York
BEGIN:DAYLIGHT
TZOFFSETFROM:-0500
TZOFFSETTO:-0400
TZNAME:EDT
DTSTART:20240310T070000
END:DAYLIGHT
BEGIN:STANDARD
TZOFFSETFROM:-0400
TZOFFSETTO:-0500
TZNAME:EST
DTSTART:20241103T060000
END:STANDARD
BEGIN:DAYLIGHT
TZOFFSETFROM:-0500
TZOFFSETTO:-0400
TZNAME:EDT
DTSTART:20250309T070000
END:DAYLIGHT
BEGIN:STANDARD
TZOFFSETFROM:-0400
TZOFFSETTO:-0500
TZNAME:EST
DTSTART:20251102T060000
END:STANDARD
BEGIN:DAYLIGHT
TZOFFSETFROM:-0500
TZOFFSETTO:-0400
TZNAME:EDT
DTSTART:20260308T070000
END:DAYLIGHT
BEGIN:STANDARD
TZOFFSETFROM:-0400
TZOFFSETTO:-0500
TZNAME:EST
DTSTART:20261101T060000
END:STANDARD
BEGIN:DAYLIGHT
TZOFFSETFROM:-0500
TZOFFSETTO:-0400
TZNAME:EDT
DTSTART:20270314T070000
END:DAYLIGHT
BEGIN:STANDARD
TZOFFSETFROM:-0400
TZOFFSETTO:-0500
TZNAME:EST
DTSTART:20271107T060000
END:STANDARD
END:VTIMEZONE
BEGIN:VEVENT
DTSTART;VALUE=DATE:20251215
DTEND;VALUE=DATE:20260901
DTSTAMP:20260421T235216
CREATED:20250702T172531Z
LAST-MODIFIED:20260421T122804Z
UID:6880-1765756800-1788220799@www.unionconnecticut.org
SUMMARY:Union250  ~ Click here for upcoming event information! Join our next meeting: MON MAY 18\, 6PM
DESCRIPTION:UNION250\nIn 2026\, the United States will commemorate the 250th anniversary of the signing of the Declaration of Independence and the founding of the country.  \nEveryone can be a part of the CT250 TOWN OF UNION celebration and events!\nWe will be meeting the 3rd Monday of each month at 6:00 PM in the Community Room.\nMONDAY\, May 18 at 6:00 PM – Planning Meeting in the Community Room.\nPLEASE JOIN US!\nThere will be a few fundraisers scheduled to help cover expenses for our town events. The Town has also established an account for accepting donations. If you would like to help sponsor these events for 2026\, checks payable to Union250 can be mailed or dropped off at the Selectman’s Office.\nUPCOMING FUNDRAISERS: \nBasket Raffle  \nGlass Medallion Keepsake Ornament designed for Union’s America250 Commemoration \nAMERICA250 Garden Flag Sale  Flag Fundraiser Union250\n\nUPCOMING EVENTS:\nSTAR SPANGLED CHILI SHOWDOWN\, SATURDAY\, APRIL 25 ~ Sign up information is posted on website home page. Enter your favorite chili OR attend this event to taste test and vote! Live Music!\nClick here for more information and entry forms\nMore information to come on the following:  \nSelf Guided Historic Home Tour ~ see houses that were standing in Union at the time of the Revolution War  \n“Union Was There” History study and presentation by Union School Students  \nThe State of Connecticut Traveling Exhibit commemorating America250 will be coming to Union \nJuly 4 event at the Revolutionary War Cemetery \nJuly 16 6:30 PM  Revolutionary War Storyteller event at the Town Hall Community Room ~ For All Ages\nAUGUST 15 Old Home Day is Union’s AMERICA250 Big Event! Watch for exciting updates!\nVolunteers and ideas are needed to plan\, coordinate and serve at our events. \n\nHave time to help at one event? Join us!\nWould you like to help plan and organize an event? Join us!\nHave an idea for commemorating this historic anniversary? Join us on the 3rd Monday of each month\, 6 PM\n\nContact the Selectman’s Office at (860)684-3812 or unionadmin@UnionConnecticut.org if you would like to help plan or serve at an event for this important and exciting commemoration!
URL:https://www.unionconnecticut.org/event/ct250-union-events-calling-volunteers/
LOCATION:Community Room Town Hall\, 1043 Buckley Highway\, Union\, CT\, 06076\, United States
CATEGORIES:Event
ATTACH;FMTTYPE=image/jpeg:https://www.unionconnecticut.org/wp-content/uploads/2025/07/America-250-1.jpg
END:VEVENT
BEGIN:VEVENT
DTSTART;TZID=America/New_York:20260502T093000
DTEND;TZID=America/New_York:20260502T150000
DTSTAMP:20260421T235216
CREATED:20260409T150716Z
LAST-MODIFIED:20260409T150955Z
UID:7782-1777714200-1777734000@www.unionconnecticut.org
SUMMARY:Family Event - Naturally Natchaug Clean Water Festival with tours and exhibits ~ May 2
DESCRIPTION:
URL:https://www.unionconnecticut.org/event/family-event-naturally-natchaug-clean-water-festival-may-2/
CATEGORIES:Event
ATTACH;FMTTYPE=image/png:https://www.unionconnecticut.org/wp-content/uploads/2026/04/Natchaug-logo.png
END:VEVENT
BEGIN:VEVENT
DTSTART;TZID=America/New_York:20260505T120000
DTEND;TZID=America/New_York:20260505T133000
DTSTAMP:20260421T235216
CREATED:20260211T175819Z
LAST-MODIFIED:20260414T131734Z
UID:7500-1777982400-1777987800@www.unionconnecticut.org
SUMMARY:Cinco de Mayo Taco Bar Potluck Luncheon ~ Tuesday\, May 5 at 12noon\, Community Room
DESCRIPTION:Cinco de  Mayo Potluck Luncheon\nTuesday\, May 5 at 12noon\nCommunity Room at the Town Hall\n   \nTaco Bar Provided\nSign up is not required but helpful for planning. \nCall or email Karen at (860)684-3812 or unionadmin@unionconnecticut.org. \nPlease join us and bring a friend ~ or two!
URL:https://www.unionconnecticut.org/event/7500/
CATEGORIES:Event
ATTACH;FMTTYPE=image/jpeg:https://www.unionconnecticut.org/wp-content/uploads/2026/02/cinco-do-mayo.jpg
END:VEVENT
END:VCALENDAR