BEGIN:VCALENDAR
VERSION:2.0
PRODID:-//Town of Union, Connecticut | Established 1734 - ECPv6.15.20//NONSGML v1.0//EN
CALSCALE:GREGORIAN
METHOD:PUBLISH
X-WR-CALNAME:Town of Union, Connecticut | Established 1734
X-ORIGINAL-URL:https://www.unionconnecticut.org
X-WR-CALDESC:Events for Town of Union, Connecticut | Established 1734
REFRESH-INTERVAL;VALUE=DURATION:PT1H
X-Robots-Tag:noindex
X-PUBLISHED-TTL:PT1H
BEGIN:VTIMEZONE
TZID:America/New_York
BEGIN:DAYLIGHT
TZOFFSETFROM:-0500
TZOFFSETTO:-0400
TZNAME:EDT
DTSTART:20210314T070000
END:DAYLIGHT
BEGIN:STANDARD
TZOFFSETFROM:-0400
TZOFFSETTO:-0500
TZNAME:EST
DTSTART:20211107T060000
END:STANDARD
BEGIN:DAYLIGHT
TZOFFSETFROM:-0500
TZOFFSETTO:-0400
TZNAME:EDT
DTSTART:20220313T070000
END:DAYLIGHT
BEGIN:STANDARD
TZOFFSETFROM:-0400
TZOFFSETTO:-0500
TZNAME:EST
DTSTART:20221106T060000
END:STANDARD
BEGIN:DAYLIGHT
TZOFFSETFROM:-0500
TZOFFSETTO:-0400
TZNAME:EDT
DTSTART:20230312T070000
END:DAYLIGHT
BEGIN:STANDARD
TZOFFSETFROM:-0400
TZOFFSETTO:-0500
TZNAME:EST
DTSTART:20231105T060000
END:STANDARD
BEGIN:DAYLIGHT
TZOFFSETFROM:-0500
TZOFFSETTO:-0400
TZNAME:EDT
DTSTART:20240310T070000
END:DAYLIGHT
BEGIN:STANDARD
TZOFFSETFROM:-0400
TZOFFSETTO:-0500
TZNAME:EST
DTSTART:20241103T060000
END:STANDARD
END:VTIMEZONE
BEGIN:VEVENT
DTSTART;TZID=America/New_York:20230404T190000
DTEND;TZID=America/New_York:20230404T200000
DTSTAMP:20260422T164556
CREATED:20230322T172827Z
LAST-MODIFIED:20230329T185449Z
UID:4447-1680634800-1680638400@www.unionconnecticut.org
SUMMARY:Board of Finance Meeting
DESCRIPTION:Board of Finance MeetingTOWN OF UNION \nBOARD OF FINANCE \nAGENDA \nApril 4\, 2023 \n7:00 pm \nMeeting Agenda: \n\nPersons to be heard\nMinutes of previous meetings\nBudget discussion\n5 year planning\nNew Business\n\nRespectfully\, \nLeanne Lake\, Recording Secretary
URL:https://www.unionconnecticut.org/event/board-of-finance-meeting-9/
CATEGORIES:Board of Finance Meetings
ATTACH;FMTTYPE=image/jpeg:https://www.unionconnecticut.org/wp-content/uploads/2022/06/Board-of-Finance-Meeting.jpg
END:VEVENT
BEGIN:VEVENT
DTSTART;TZID=America/New_York:20230321T190000
DTEND;TZID=America/New_York:20230321T200000
DTSTAMP:20260422T164556
CREATED:20230214T163412Z
LAST-MODIFIED:20230320T231604Z
UID:4312-1679425200-1679428800@www.unionconnecticut.org
SUMMARY:Board of Finance Meeting
DESCRIPTION:Board of Finance MeetingTOWN OF UNION \nBOARD OF FINANCE  \nAGENDA \nMarch 21\, 2023 \n7:00 pm \nThe meeting will be held at the Town Hall\, as well as online using the platform Zoom. \nJoin Zoom Meeting \nhttps://us02web.zoom.us/j/85649447061?pwd=WkQrYkEyNEsvQmNsOEFncWVxSFBYdz09 \nMeeting ID: 856 4944 7061 \nPasscode: 393599 \nMeeting Agenda: \n\nPersons to be heard\nMinutes of previous meetings\nBudget discussion\n5 year planning\nNew Business\n\nRespectfully\, \nLeanne Lake\, Recording Secretary
URL:https://www.unionconnecticut.org/event/board-of-finance-meeting-8/
CATEGORIES:Board of Finance Meetings
ATTACH;FMTTYPE=image/jpeg:https://www.unionconnecticut.org/wp-content/uploads/2022/06/Board-of-Finance-Meeting.jpg
END:VEVENT
BEGIN:VEVENT
DTSTART;TZID=America/New_York:20230307T190000
DTEND;TZID=America/New_York:20230307T200000
DTSTAMP:20260422T164556
CREATED:20230214T163332Z
LAST-MODIFIED:20230307T003428Z
UID:4310-1678215600-1678219200@www.unionconnecticut.org
SUMMARY:Board of Finance Meeting
DESCRIPTION:Board of Finance MeetingTOWN OF UNION \nBOARD OF FINANCE  \nAGENDA \nMarch 7\, 2023 \n7:00 pm \nThe meeting will be held at the Town Hall\, as well as online using the platform Zoom. \nJoin Zoom Meeting \nhttps://us02web.zoom.us/j/83416057610?pwd=VHVOZG52a1lneVJWR0ZCMlFnRlUyQT09 \nMeeting ID: 834 1605 7610 \nPasscode: 912714 \nMeeting Agenda: \n\nPersons to be heard\nMinutes of previous meetings\nBudget discussion\n5 year planning\nNew Business\n\nRespectfully\, \nLeanne Lake\, Recording Secretary
URL:https://www.unionconnecticut.org/event/board-of-finance-meeting-7/
CATEGORIES:Board of Finance Meetings
ATTACH;FMTTYPE=image/jpeg:https://www.unionconnecticut.org/wp-content/uploads/2022/06/Board-of-Finance-Meeting.jpg
END:VEVENT
BEGIN:VEVENT
DTSTART;TZID=America/New_York:20230221T190000
DTEND;TZID=America/New_York:20230221T200000
DTSTAMP:20260422T164556
CREATED:20230124T151353Z
LAST-MODIFIED:20230216T141746Z
UID:4254-1677006000-1677009600@www.unionconnecticut.org
SUMMARY:Board of Finance Meeting
DESCRIPTION:Board of Finance MeetingTOWN OF UNION \nBOARD OF FINANCE  \nAGENDA \nFebruary 21\, 2023 \n7:00 pm \nThe meeting will be held at the Town Hall\, as well as online using the platform Zoom. \nJoin Zoom Meeting \nhttps://us02web.zoom.us/j/86886181785?pwd=aFFmY2g3U3o0Q25RcjB5QkxDMFRPZz09 \nMeeting ID: 868 8618 1785     Passcode: 555028 \nMeeting Agenda: \n\nPersons to be heard\n\nSchool Board\n\n\nMinutes of previous meetings\nBudget discussion\n5 year planning\nNew Business\n\nRespectfully\, \nLeanne Lake\, Recording Secretary
URL:https://www.unionconnecticut.org/event/board-of-finance-meeting-6/
CATEGORIES:Board of Finance Meetings
ATTACH;FMTTYPE=image/jpeg:https://www.unionconnecticut.org/wp-content/uploads/2022/06/Board-of-Finance-Meeting.jpg
END:VEVENT
BEGIN:VEVENT
DTSTART;TZID=America/New_York:20230207T190000
DTEND;TZID=America/New_York:20230207T200000
DTSTAMP:20260422T164556
CREATED:20230124T151214Z
LAST-MODIFIED:20230207T003151Z
UID:4250-1675796400-1675800000@www.unionconnecticut.org
SUMMARY:Board of Finance Meeting
DESCRIPTION:Board of Finance MeetingTOWN OF UNION \nBOARD OF FINANCE  \nAGENDA \nFebruary 7\, 2023 \n7:00 pm \nThe meeting will be held at the Town Hall\, as well as online using the platform Zoom. \nJoin Zoom Meeting https://us02web.zoom.us/j/83463874918?pwd=THNKa1ovdXVOdCtpOVA2TkY0RjFZUT09 \nMeeting ID: 834 6387 4918 Passcode: 440149 \nMeeting Agenda: \n\nMinutes of previous meetings\nBudget discussion\n5 year planning\nNew Business\nPersons to be heard\n\nRespectfully\, \nLeanne Lake\, Recording Secretary
URL:https://www.unionconnecticut.org/event/board-of-finance-meeting-5/
CATEGORIES:Board of Finance Meetings
ATTACH;FMTTYPE=image/jpeg:https://www.unionconnecticut.org/wp-content/uploads/2022/06/Board-of-Finance-Meeting.jpg
END:VEVENT
BEGIN:VEVENT
DTSTART;TZID=America/New_York:20230124T190000
DTEND;TZID=America/New_York:20230124T200000
DTSTAMP:20260422T164556
CREATED:20221025T140824Z
LAST-MODIFIED:20230119T154450Z
UID:4025-1674586800-1674590400@www.unionconnecticut.org
SUMMARY:Board of Finance Special Meeting
DESCRIPTION:Board of Finance Special MeetingTOWN OF UNION \nBOARD OF FINANCE \nSPECIAL MEETING AGENDA \nJanuary 24\, 2023 \n7:00 pm \nJoin Zoom Meeting \nhttps://us02web.zoom.us/j/85247697076?pwd=ajZmVnhyZjhZckQzendjWHdNNGFrZz09 \nMeeting ID: 852 4769 7076 \nPasscode: 212137 \nMeeting Agenda: \n\nPersons to be heard\n\nLibrary Board\n\n\nMinutes of previous meetings\nBudget discussion\n5 year planning\nNew Business\n\nRespectfully\, \nLeanne Lake\, Recording Secretary
URL:https://www.unionconnecticut.org/event/board-of-finance-meeting-4/
CATEGORIES:Board of Finance Meetings
ATTACH;FMTTYPE=image/jpeg:https://www.unionconnecticut.org/wp-content/uploads/2022/06/Board-of-Finance-Meeting.jpg
END:VEVENT
BEGIN:VEVENT
DTSTART;TZID=America/New_York:20221018T190000
DTEND;TZID=America/New_York:20221018T200000
DTSTAMP:20260422T164556
CREATED:20220928T141407Z
LAST-MODIFIED:20220928T144145Z
UID:3934-1666119600-1666123200@www.unionconnecticut.org
SUMMARY:Board of Finance Meeting
DESCRIPTION:Board of Finance Meeting
URL:https://www.unionconnecticut.org/event/board-of-finance-meeting-3/
CATEGORIES:Board of Finance Meetings
ATTACH;FMTTYPE=image/jpeg:https://www.unionconnecticut.org/wp-content/uploads/2022/06/Board-of-Finance-Meeting.jpg
END:VEVENT
BEGIN:VEVENT
DTSTART;TZID=America/New_York:20220920T190000
DTEND;TZID=America/New_York:20220920T200000
DTSTAMP:20260422T164556
CREATED:20220629T162324Z
LAST-MODIFIED:20220922T140656Z
UID:2361-1663700400-1663704000@www.unionconnecticut.org
SUMMARY:Board of Finance Meeting
DESCRIPTION:Board of Finance MeetingMeeting Agenda\nTOWN OF UNION \nBOARD OF FINANCE  \nAGENDA \nSeptember 20\, 2022 \n7:00 pm \nMeeting Agenda: \n\nPersons to be heard\n\n2. Minutes of previous meetings \n3. Budget discussion \n\n\n\nARPA Expenses\n\n\n\n4. 5 year planning \n5. New Business \nRespectfully\, \nLeanne Lake\, Recording Secretary
URL:https://www.unionconnecticut.org/event/board-of-finance-meeting/
CATEGORIES:Board of Finance Meetings
ATTACH;FMTTYPE=image/jpeg:https://www.unionconnecticut.org/wp-content/uploads/2022/06/Board-of-Finance-Meeting.jpg
END:VEVENT
BEGIN:VEVENT
DTSTART;TZID=America/New_York:20220823T150000
DTEND;TZID=America/New_York:20220823T160000
DTSTAMP:20260422T164556
CREATED:20220804T202514Z
LAST-MODIFIED:20220817T210525Z
UID:3661-1661266800-1661270400@www.unionconnecticut.org
SUMMARY:Board of Finance Meeting
DESCRIPTION:Board of Finance MeetingMeeting Agenda\n  \nTOWN OF UNION \nBOARD OF FINANCE  \nAGENDA \nAugust 23\, 2022 \n7:00 pm \nMeeting Agenda: \n\nPersons to be heard\nMinutes of previous meetings\nBudget discussion\n\nAudit expense\n\n\n5 year planning\nNew Business\n\nRespectfully\, \nLeanne Lake\, Recording Secretary
URL:https://www.unionconnecticut.org/event/board-of-finance-meeting-2/
LOCATION:Union Town Hall\, 1043 Buckley Hwy\, Union\, CT\, 06076\, United States
CATEGORIES:Board of Finance Meetings
ATTACH;FMTTYPE=image/jpeg:https://www.unionconnecticut.org/wp-content/uploads/2022/06/Board-of-Finance-Meeting.jpg
END:VEVENT
END:VCALENDAR