BEGIN:VCALENDAR
VERSION:2.0
PRODID:-//Town of Union, Connecticut | Established 1734 - ECPv6.15.20//NONSGML v1.0//EN
CALSCALE:GREGORIAN
METHOD:PUBLISH
X-ORIGINAL-URL:https://www.unionconnecticut.org
X-WR-CALDESC:Events for Town of Union, Connecticut | Established 1734
REFRESH-INTERVAL;VALUE=DURATION:PT1H
X-Robots-Tag:noindex
X-PUBLISHED-TTL:PT1H
BEGIN:VTIMEZONE
TZID:America/New_York
BEGIN:DAYLIGHT
TZOFFSETFROM:-0500
TZOFFSETTO:-0400
TZNAME:EDT
DTSTART:20230312T070000
END:DAYLIGHT
BEGIN:STANDARD
TZOFFSETFROM:-0400
TZOFFSETTO:-0500
TZNAME:EST
DTSTART:20231105T060000
END:STANDARD
BEGIN:DAYLIGHT
TZOFFSETFROM:-0500
TZOFFSETTO:-0400
TZNAME:EDT
DTSTART:20240310T070000
END:DAYLIGHT
BEGIN:STANDARD
TZOFFSETFROM:-0400
TZOFFSETTO:-0500
TZNAME:EST
DTSTART:20241103T060000
END:STANDARD
BEGIN:DAYLIGHT
TZOFFSETFROM:-0500
TZOFFSETTO:-0400
TZNAME:EDT
DTSTART:20250309T070000
END:DAYLIGHT
BEGIN:STANDARD
TZOFFSETFROM:-0400
TZOFFSETTO:-0500
TZNAME:EST
DTSTART:20251102T060000
END:STANDARD
END:VTIMEZONE
BEGIN:VEVENT
DTSTART;TZID=America/New_York:20240917T193000
DTEND;TZID=America/New_York:20240917T200000
DTSTAMP:20260423T150158
CREATED:20240730T144918Z
LAST-MODIFIED:20240912T125329Z
UID:5945-1726601400-1726603200@www.unionconnecticut.org
SUMMARY:Board of Finance Meeting September 17\, 2024 7:00PM
DESCRIPTION:Board of Finance MeetingTOWN OF UNION \nBOARD OF FINANCE \nAGENDA \nSeptember 17\, 2024 \n7:00 pm \nMeeting Agenda: \n\nNew Business\nPersons to be heard\nMinutes of previous meetings\nBudget discussion\n\n2023-2024 Budget Adjustments\n\n\n5 year planning\n\nRespectfully\, \nLeanne Lake\, Recording Secretary
URL:https://www.unionconnecticut.org/event/board-of-finance-meeting-september-17-2024-700pm/
CATEGORIES:Board of Finance Meetings
ATTACH;FMTTYPE=image/jpeg:https://www.unionconnecticut.org/wp-content/uploads/2022/06/Board-of-Finance-Meeting.jpg
END:VEVENT
END:VCALENDAR