BEGIN:VCALENDAR
VERSION:2.0
PRODID:-//Town of Union, Connecticut | Established 1734 - ECPv6.15.20//NONSGML v1.0//EN
CALSCALE:GREGORIAN
METHOD:PUBLISH
X-ORIGINAL-URL:https://www.unionconnecticut.org
X-WR-CALDESC:Events for Town of Union, Connecticut | Established 1734
REFRESH-INTERVAL;VALUE=DURATION:PT1H
X-Robots-Tag:noindex
X-PUBLISHED-TTL:PT1H
BEGIN:VTIMEZONE
TZID:America/New_York
BEGIN:DAYLIGHT
TZOFFSETFROM:-0500
TZOFFSETTO:-0400
TZNAME:EDT
DTSTART:20220313T070000
END:DAYLIGHT
BEGIN:STANDARD
TZOFFSETFROM:-0400
TZOFFSETTO:-0500
TZNAME:EST
DTSTART:20221106T060000
END:STANDARD
BEGIN:DAYLIGHT
TZOFFSETFROM:-0500
TZOFFSETTO:-0400
TZNAME:EDT
DTSTART:20230312T070000
END:DAYLIGHT
BEGIN:STANDARD
TZOFFSETFROM:-0400
TZOFFSETTO:-0500
TZNAME:EST
DTSTART:20231105T060000
END:STANDARD
BEGIN:DAYLIGHT
TZOFFSETFROM:-0500
TZOFFSETTO:-0400
TZNAME:EDT
DTSTART:20240310T070000
END:DAYLIGHT
BEGIN:STANDARD
TZOFFSETFROM:-0400
TZOFFSETTO:-0500
TZNAME:EST
DTSTART:20241103T060000
END:STANDARD
BEGIN:DAYLIGHT
TZOFFSETFROM:-0500
TZOFFSETTO:-0400
TZNAME:EDT
DTSTART:20250309T070000
END:DAYLIGHT
BEGIN:STANDARD
TZOFFSETFROM:-0400
TZOFFSETTO:-0500
TZNAME:EST
DTSTART:20251102T060000
END:STANDARD
END:VTIMEZONE
BEGIN:VEVENT
DTSTART;TZID=America/New_York:20240308T193000
DTEND;TZID=America/New_York:20240308T203000
DTSTAMP:20260422T062201
CREATED:20240305T134056Z
LAST-MODIFIED:20240306T181848Z
UID:5416-1709926200-1709929800@www.unionconnecticut.org
SUMMARY:Board of Assessment Appeals March 8\, 2024 7:30PM
DESCRIPTION:Board of Assessment AppealsTOWN OF UNION CONNECTICUT \nBoard of Assessment Appeals \n1043 Buckley Highway\, Union CT 06076 \n(860)684-3812 \nassessmentappeals@unionconnecticut.org \nA G E N D A\nMeeting –Friday\, March 8\, 2024\n7:30 PM-Union Town Hall\nOrder of Business\nI.          Call to Order \nII.       Approval of Minutes from February 23\, 2024 meeting \nIII.     Old Business \n           a. None \nIV.    New Business \n           a.   Conduct appeal hearings as scheduled. \n           b.   Review information presented by appellants to determine if a decision can be rendered \n                   or if more information is necessary. \n           c.   Render appeal decisions \nV.      Adjournment  \nSubmitted by: \nDavid M. Heck \nBOAA Chairman/Secretary \n 
URL:https://www.unionconnecticut.org/event/board-of-assessment-appeals-february-23-2024/
CATEGORIES:Board of Assessment Appeals Meetings
ATTACH;FMTTYPE=image/jpeg:https://www.unionconnecticut.org/wp-content/uploads/2022/07/Board-of-Assessment-Appeals.jpg
END:VEVENT
BEGIN:VEVENT
DTSTART;TZID=America/New_York:20240223T193000
DTEND;TZID=America/New_York:20240223T203000
DTSTAMP:20260422T062201
CREATED:20220702T182418Z
LAST-MODIFIED:20240206T151923Z
UID:2746-1708716600-1708720200@www.unionconnecticut.org
SUMMARY:Board of Assessment Appeals February 23\, 2024
DESCRIPTION:Board of Assessment AppealsTOWN OF UNION CONNECTICUT \nBoard of Assessment Appeals \n1043 Buckley Highway\, Union CT 06076 \n(860)684-3812 \nassessmentappeals@unionconnecticut.org \nA G E N D A\nMeeting –Friday\, February 23\, 2024\n7:30 PM-Union Town Hall\nOrder of Business\nI.       Call to Order\nII.     Approval of Minutes from September 8\, 2023 meeting \nIII.         Old Business \n               a. None \nIV.          New Business \n                a. Review of submitted appeal applications \n                b. Set hearing dates for appeals as necessary \nV.            Adjournment  \nSubmitted by: \nDavid M. Heck \nBOAA Chairman/Secretary \n 
URL:https://www.unionconnecticut.org/event/board-of-assessment-appeals/
CATEGORIES:Board of Assessment Appeals Meetings
ATTACH;FMTTYPE=image/jpeg:https://www.unionconnecticut.org/wp-content/uploads/2022/07/Board-of-Assessment-Appeals.jpg
END:VEVENT
BEGIN:VEVENT
DTSTART;TZID=America/New_York:20230908T193000
DTEND;TZID=America/New_York:20230908T203000
DTSTAMP:20260422T062201
CREATED:20230809T175930Z
LAST-MODIFIED:20230821T143911Z
UID:4893-1694201400-1694205000@www.unionconnecticut.org
SUMMARY:Board of Assessment Appeals September 8\, 2023
DESCRIPTION:Board of Assessment AppealsTOWN OF UNION CONNECTICUT \nBoard of Assessment Appeals \n1043 Buckley Highway\, Union CT 06076 \n(860) 684-3812 \nassessmentappeals@unionconnecticut.org \nA G E N D A\n  \nMeeting –Friday\, September 8\, 2023\n7:30PM to 8:30PM – Union Town Hall \nOrder of Business\n  \nI.                Call to Order\n\nApproval of Minutes from March 10\, 2023 meeting\n\nIII.           Old Business\n\nNone\n\n\nNew Business\n\nReview and vote on motor vehicle appeals as presented\nVote to extend September 8\, 2023 meeting end time if necessary to conclude reviews and votes on appeals presented\nReview and set dates for meetings to be held in calendar year 2024.\n\nProposed dates:\n\nFriday\, February 23\, 2024\, 7:30PM\nFriday\, March 8\, 2024\, 7:30PM\nFriday\, March 15\, 2024\, 7:30PM\nSaturday\, March 16\, 2024\, 10:00AM\nFriday\, March 22\, 2024\, 7:30PM\nFriday\, September 6\, 2024 from 7:30PM to 8:30PM (motor vehicle appeals only)\n\n\n\n\n\n\n\n\nAdjournment\n\nSubmitted by: \nDavid M. Heck \nChairman \n 
URL:https://www.unionconnecticut.org/event/board-of-assessment-appeals-september-8-2023/
CATEGORIES:Board of Assessment Appeals Meetings
ATTACH;FMTTYPE=image/jpeg:https://www.unionconnecticut.org/wp-content/uploads/2022/07/Board-of-Assessment-Appeals.jpg
END:VEVENT
BEGIN:VEVENT
DTSTART;TZID=America/New_York:20230324T193000
DTEND;TZID=America/New_York:20230324T203000
DTSTAMP:20260422T062201
CREATED:20230214T162828Z
LAST-MODIFIED:20230314T134626Z
UID:4299-1679686200-1679689800@www.unionconnecticut.org
SUMMARY:Board of Assessment Appeals CANCELLED
DESCRIPTION:Board of Assessment AppealsTOWN OF UNION CONNECTICUT \nBoard of Assessment Appeals \n1043 Buckley Highway\, Union CT 06076 \n(860)684-3812 \nassessmentappeals@unionconnecticut.org \nMarch 11\, 2023 \nTo:       Heidi Bradrick\, Town Clerk \nKaren Johnson\, Selectmen’s Administrative Assistant \nFrom:   David M. Heck\, Chairman \nRe:       Cancellation of scheduled Board of Assessment Appeals Meetings for 2023 \nThe following meetings will not be required and the BOAA has voted to cancel them. \nMarch 17\, 2023 7:30PM \nMarch 18\, 2023 10:00AM \nMarch 24\, 2023  7:30PM \nThank you. \nSincerely\, \nDavid M. Heck
URL:https://www.unionconnecticut.org/event/board-of-assessment-appeals-5/
CATEGORIES:Board of Assessment Appeals Meetings
ATTACH;FMTTYPE=image/jpeg:https://www.unionconnecticut.org/wp-content/uploads/2022/07/Board-of-Assessment-Appeals.jpg
END:VEVENT
BEGIN:VEVENT
DTSTART;TZID=America/New_York:20230318T100000
DTEND;TZID=America/New_York:20230318T110000
DTSTAMP:20260422T062201
CREATED:20230214T162739Z
LAST-MODIFIED:20230314T133546Z
UID:4297-1679133600-1679137200@www.unionconnecticut.org
SUMMARY:Board of Assessment Appeals CANCELLED
DESCRIPTION:Board of Assessment AppealsTOWN OF UNION CONNECTICUT \nBoard of Assessment Appeals \n1043 Buckley Highway\, Union CT 06076 \n(860)684-3812 \nassessmentappeals@unionconnecticut.org \nMarch 11\, 2023 \nTo:       Heidi Bradrick\, Town Clerk \nKaren Johnson\, Selectmen’s Administrative Assistant \nFrom:   David M. Heck\, Chairman \nRe:       Cancellation of scheduled Board of Assessment Appeals Meetings for 2023 \nThe following meetings will not be required and the BOAA has voted to cancel them. \nMarch 17\, 2023 7:30PM \nMarch 18\, 2023 10:00AM \nMarch 24\, 2023  7:30PM \nThank you. \nSincerely\, \nDavid M. Heck
URL:https://www.unionconnecticut.org/event/board-of-assessment-appeals-4/
CATEGORIES:Board of Assessment Appeals Meetings
ATTACH;FMTTYPE=image/jpeg:https://www.unionconnecticut.org/wp-content/uploads/2022/07/Board-of-Assessment-Appeals.jpg
END:VEVENT
BEGIN:VEVENT
DTSTART;TZID=America/New_York:20230317T193000
DTEND;TZID=America/New_York:20230317T203000
DTSTAMP:20260422T062201
CREATED:20230214T162655Z
LAST-MODIFIED:20230314T135059Z
UID:4295-1679081400-1679085000@www.unionconnecticut.org
SUMMARY:Board of Assessment Appeals CANCELLED
DESCRIPTION:Board of Assessment AppealsTOWN OF UNION CONNECTICUT \nBoard of Assessment Appeals \n1043 Buckley Highway\, Union CT 06076 \n(860)684-3812 \nassessmentappeals@unionconnecticut.org \nMarch 11\, 2023 \nTo:       Heidi Bradrick\, Town Clerk \nKaren Johnson\, Selectmen’s Administrative Assistant \nFrom:   David M. Heck\, Chairman \nRe:       Cancellation of scheduled Board of Assessment Appeals Meetings for 2023 \nThe following meetings will not be required and the BOAA has voted to cancel them. \nMarch 17\, 2023 7:30PM \nMarch 18\, 2023 10:00AM \nMarch 24\, 2023  7:30PM \nThank you. \nSincerely\, \nDavid M. Heck
URL:https://www.unionconnecticut.org/event/board-of-assessment-appeals-3/
CATEGORIES:Board of Assessment Appeals Meetings
ATTACH;FMTTYPE=image/jpeg:https://www.unionconnecticut.org/wp-content/uploads/2022/07/Board-of-Assessment-Appeals.jpg
END:VEVENT
BEGIN:VEVENT
DTSTART;TZID=America/New_York:20230310T193000
DTEND;TZID=America/New_York:20230310T203000
DTSTAMP:20260422T062201
CREATED:20230214T162554Z
LAST-MODIFIED:20230301T164830Z
UID:4293-1678476600-1678480200@www.unionconnecticut.org
SUMMARY:Board of Assessment Appeals
DESCRIPTION:Board of Assessment AppealsTOWN OF UNION CONNECTICUT \nBoard of Assessment Appeals \n1043 Buckley Highway\, Union CT 06076 \n(860)684-3812 \nassessmentappeals@unionconnecticut.org \nA G E N D A\nMeeting –Friday\, March 10\, 2023\n7:30 PM-Union Town Hall \n  \nOrder of Business\nI.            Call to Order\nII.            Approval of Minutes \nIII.            Old Business\n\nNone\n\nIV.            New Business\n\n\n\nConduct appeal hearings as scheduled\nReview and determination of appeals heard\nSchedule additional meeting(s) if necessary\nDiscuss cancellation of remaining meetings if no further meeting dates are required\n\n\n\nV.            Adjournment\nSubmitted by: \nDavid M. Heck \nChairman \n 
URL:https://www.unionconnecticut.org/event/board-of-assessment-appeals-2/
CATEGORIES:Board of Assessment Appeals Meetings
ATTACH;FMTTYPE=image/jpeg:https://www.unionconnecticut.org/wp-content/uploads/2022/07/Board-of-Assessment-Appeals.jpg
END:VEVENT
END:VCALENDAR