BEGIN:VCALENDAR
VERSION:2.0
PRODID:-//Town of Union, Connecticut | Established 1734 - ECPv6.15.20//NONSGML v1.0//EN
CALSCALE:GREGORIAN
METHOD:PUBLISH
X-WR-CALNAME:Town of Union, Connecticut | Established 1734
X-ORIGINAL-URL:http://www.unionconnecticut.org
X-WR-CALDESC:Events for Town of Union, Connecticut | Established 1734
REFRESH-INTERVAL;VALUE=DURATION:PT1H
X-Robots-Tag:noindex
X-PUBLISHED-TTL:PT1H
BEGIN:VTIMEZONE
TZID:America/New_York
BEGIN:DAYLIGHT
TZOFFSETFROM:-0500
TZOFFSETTO:-0400
TZNAME:EDT
DTSTART:20210314T070000
END:DAYLIGHT
BEGIN:STANDARD
TZOFFSETFROM:-0400
TZOFFSETTO:-0500
TZNAME:EST
DTSTART:20211107T060000
END:STANDARD
BEGIN:DAYLIGHT
TZOFFSETFROM:-0500
TZOFFSETTO:-0400
TZNAME:EDT
DTSTART:20220313T070000
END:DAYLIGHT
BEGIN:STANDARD
TZOFFSETFROM:-0400
TZOFFSETTO:-0500
TZNAME:EST
DTSTART:20221106T060000
END:STANDARD
BEGIN:DAYLIGHT
TZOFFSETFROM:-0500
TZOFFSETTO:-0400
TZNAME:EDT
DTSTART:20230312T070000
END:DAYLIGHT
BEGIN:STANDARD
TZOFFSETFROM:-0400
TZOFFSETTO:-0500
TZNAME:EST
DTSTART:20231105T060000
END:STANDARD
END:VTIMEZONE
BEGIN:VEVENT
DTSTART;VALUE=DATE:20220825
DTEND;VALUE=DATE:20220826
DTSTAMP:20260422T071636
CREATED:20220825T160758Z
LAST-MODIFIED:20220825T161013Z
UID:3735-1661385600-1661471999@www.unionconnecticut.org
SUMMARY:Frontier Fiber Internet is coming to your neighborhood!
DESCRIPTION:The wait is over\, Union. Frontier® Fiber Internet is coming to your neighborhood! \nAccess to high-speed internet is critical to everyone. Frontier is expanding the reach of its fiber network so homes and businesses can benefit from their mission to build Gibabit AmericaTM. \nFrontier now offers internet service as fast as 2 gigabit per second\, allowing consumers to upload videos and files up to 50 times faster than the broadband service offered by cable companies in Connecticut. That means more people in the same household can enjoy great speeds at the same time\, while working from home\, home schooling\, streaming\, or just surfing the web. \nPlease note\, this is a wired fiber-optic infrastructure project; it is not a 5G wireless project.\nYou’ll notice a lot of activity in your surrounding areas\, including increased truck traffic during the construction process. Before they bring fiber to your neighborhoods\, they will: \n\nSecure local permits;\nLocate other utilities to avoid impacting their facilities;\nCreate a path for the network and set up connection points to bring fiber to customers; and\nConduct technical and engineering work in their central office facilities and on the network itself.\n\nIf you are interested in knowing if your address qualifies for Frontier® Fiber service\, contact 1-855-887-0992 (residential)\, 1-888-534-1751 (business)\, or visit getfrontierfiber.com for more information. If you have any questions\, contact Frontier’s Senior Construction Manager Keith Casey at 203.694.4065.
URL:http://www.unionconnecticut.org/event/frontier-fiber-internet-is-coming-to-your-neighborhood/
CATEGORIES:Event
ATTACH;FMTTYPE=image/jpeg:http://www.unionconnecticut.org/wp-content/uploads/2022/08/internet-1.jpg
END:VEVENT
BEGIN:VEVENT
DTSTART;VALUE=DATE:20220819
DTEND;VALUE=DATE:20220821
DTSTAMP:20260422T071636
CREATED:20220707T181856Z
LAST-MODIFIED:20220817T211338Z
UID:3443-1660939200-1661025599@www.unionconnecticut.org
SUMMARY:Old Home Day 8/20/22
DESCRIPTION:Visit the Old Home Day FaceBook page: \nhttps://www.facebook.com/UnionCTOldHomeDay \nOld Home Day is our annual Old Home Day celebration for Union\, CT. Come join us for a fun day of connecting with old friends and celebrating Union’s town history.
URL:http://www.unionconnecticut.org/event/old-home-day-8-20-22/
CATEGORIES:Event,Old Home Day
ATTACH;FMTTYPE=image/jpeg:http://www.unionconnecticut.org/wp-content/uploads/2022/07/40068915_1876716249030333_8787668920598265856_n.jpg
END:VEVENT
BEGIN:VEVENT
DTSTART;TZID=America/New_York:20220817T153000
DTEND;TZID=America/New_York:20220817T163000
DTSTAMP:20260422T071636
CREATED:20220802T172328Z
LAST-MODIFIED:20220816T185419Z
UID:3651-1660750200-1660753800@www.unionconnecticut.org
SUMMARY:Planning and Zoning Public Hearing Legal Notice
DESCRIPTION:Public Hearing Legal Notice\nLEGAL NOTICE \nPlanning and Zoning/Inland Wetland Commission \nTown of Union CT \nThe Town of Union Planning and Zoning Commission will hold a Public Hearing on August 17\, 2022 at 7:30pm at the Union Town Hall Lower Level\, 1043 Buckley Highway\, for the following: \nTo discuss a Special Permit Application of Brian Sheldon\, Quinebaug Forestry & Mulching Products LLC\, for the removal of approximately 100\,000 cubic yards of sand and gravel from a 3-acre area located on property at 154 Cemetery Road. \nInterested parties will be heard. \nThe application is available for review at the Town Clerk’s Office during regular business hours. \nMat Silbermann\, Chairman P&Z \n  \n AGENDA NOTICE \n  \nAugust 17\, 2022 \nFollowing Public Hearing \nUnion Town Hall \n\nSeating of Alternates\n\n\nMinutes August 3\, 2022\n\n\nNew Business\n\n\nPersons to be Heard Jon Beaulieu- 66 Cemetery Road\n\n\nCorrespondence\n\n\nZEO report\n\n\nOther Business             Zoning Regulations\n\n\nAdjourn
URL:http://www.unionconnecticut.org/event/planning-and-zoning-public-hearing-legal-notice/
LOCATION:Community Room Town Hall\, 1043 Buckley Highway\, Union\, CT\, 06076\, United States
CATEGORIES:Event
ATTACH;FMTTYPE=image/jpeg:http://www.unionconnecticut.org/wp-content/uploads/2022/08/PNZhearing-1.jpg
END:VEVENT
BEGIN:VEVENT
DTSTART;TZID=America/New_York:20220809T020000
DTEND;TZID=America/New_York:20220809T160000
DTSTAMP:20260422T071636
CREATED:20220804T204149Z
LAST-MODIFIED:20220804T204149Z
UID:3667-1660010400-1660060800@www.unionconnecticut.org
SUMMARY:Primary Election Tuesday\, August 9
DESCRIPTION:Democrat and Republican Primaries \n6:00 am to 8:00 pm \nUnion Town Hall Community Room
URL:http://www.unionconnecticut.org/event/primary-election-tuesday-august-9/
LOCATION:Community Room Town Hall\, 1043 Buckley Highway\, Union\, CT\, 06076\, United States
CATEGORIES:Event
ATTACH;FMTTYPE=image/jpeg:http://www.unionconnecticut.org/wp-content/uploads/2022/07/banner-townhall.jpg
END:VEVENT
BEGIN:VEVENT
DTSTART;TZID=America/New_York:20220723T050000
DTEND;TZID=America/New_York:20220723T130000
DTSTAMP:20260422T071636
CREATED:20220714T200806Z
LAST-MODIFIED:20220715T174920Z
UID:3484-1658552400-1658581200@www.unionconnecticut.org
SUMMARY:Safe Boating Certification Class
DESCRIPTION:Community Room – Lower level Town Hall \n1043 Buckley Highway\nUnion Connecticut \nClass is $75. License is $50 from the State after class \nREGISTER NOW
URL:http://www.unionconnecticut.org/event/safe-boating-certification-class/
LOCATION:Community Room Town Hall\, 1043 Buckley Highway\, Union\, CT\, 06076\, United States
CATEGORIES:Event,Safe Boating Certification Class
ATTACH;FMTTYPE=image/jpeg:http://www.unionconnecticut.org/wp-content/uploads/2022/07/safe-boating-certification-class-1.jpg
END:VEVENT
END:VCALENDAR