BEGIN:VCALENDAR
VERSION:2.0
PRODID:-//Town of Union, Connecticut | Established 1734 - ECPv6.15.20//NONSGML v1.0//EN
CALSCALE:GREGORIAN
METHOD:PUBLISH
X-ORIGINAL-URL:http://www.unionconnecticut.org
X-WR-CALDESC:Events for Town of Union, Connecticut | Established 1734
REFRESH-INTERVAL;VALUE=DURATION:PT1H
X-Robots-Tag:noindex
X-PUBLISHED-TTL:PT1H
BEGIN:VTIMEZONE
TZID:America/New_York
BEGIN:DAYLIGHT
TZOFFSETFROM:-0500
TZOFFSETTO:-0400
TZNAME:EDT
DTSTART:20250309T070000
END:DAYLIGHT
BEGIN:STANDARD
TZOFFSETFROM:-0400
TZOFFSETTO:-0500
TZNAME:EST
DTSTART:20251102T060000
END:STANDARD
BEGIN:DAYLIGHT
TZOFFSETFROM:-0500
TZOFFSETTO:-0400
TZNAME:EDT
DTSTART:20260308T070000
END:DAYLIGHT
BEGIN:STANDARD
TZOFFSETFROM:-0400
TZOFFSETTO:-0500
TZNAME:EST
DTSTART:20261101T060000
END:STANDARD
BEGIN:DAYLIGHT
TZOFFSETFROM:-0500
TZOFFSETTO:-0400
TZNAME:EDT
DTSTART:20270314T070000
END:DAYLIGHT
BEGIN:STANDARD
TZOFFSETFROM:-0400
TZOFFSETTO:-0500
TZNAME:EST
DTSTART:20271107T060000
END:STANDARD
END:VTIMEZONE
BEGIN:VEVENT
DTSTART;TZID=America/New_York:20260707T190000
DTEND;TZID=America/New_York:20260707T203000
DTSTAMP:20260422T091514
CREATED:20260225T182700Z
LAST-MODIFIED:20260225T182700Z
UID:7587-1783450800-1783456200@www.unionconnecticut.org
SUMMARY:Board of Selectmen Meeting \, July 7\, 7:00 pm
DESCRIPTION:Board of Selectmen Meeting
URL:http://www.unionconnecticut.org/event/board-of-selectmen-meeting-july-7-700-pm/
CATEGORIES:Board of Selectmen Meetings
ATTACH;FMTTYPE=image/jpeg:http://www.unionconnecticut.org/wp-content/uploads/2022/06/board-of-selectmen.jpg
END:VEVENT
BEGIN:VEVENT
DTSTART;TZID=America/New_York:20260721T190000
DTEND;TZID=America/New_York:20260721T203000
DTSTAMP:20260422T091514
CREATED:20260225T182731Z
LAST-MODIFIED:20260225T182731Z
UID:7589-1784660400-1784665800@www.unionconnecticut.org
SUMMARY:Board of Selectmen Meeting \, July 21\, 7:00 pm
DESCRIPTION:Board of Selectmen Meeting
URL:http://www.unionconnecticut.org/event/board-of-selectmen-meeting-july-21-700-pm/
CATEGORIES:Board of Selectmen Meetings
ATTACH;FMTTYPE=image/jpeg:http://www.unionconnecticut.org/wp-content/uploads/2022/06/board-of-selectmen.jpg
END:VEVENT
END:VCALENDAR